BEGIN:VCALENDAR
VERSION:2.0
PRODID:-//wp-events-plugin.com//7.1.7//EN
BEGIN:VEVENT
UID:915@poonamusic.com
DTSTART:20030906T131500Z
DTEND:20030906T153000Z
DTSTAMP:20150302T203410Z
URL:https://poonamusic.com/events/folk-jazz-duo-michael-riessler-valentin-
 clastrier/
SUMMARY:Folk - Jazz Duo Michael Riessler - Valentin Clastrier
DESCRIPTION:Folk - Jazz Duo Michael Riessler - Valentin Clastrier in associ
 ation with the Max Mueller Bhavan\, Pune and the DaimlerChrysler Ltd.
CATEGORIES:Jazz
LOCATION:Mazda Hall\, Sardar Dastur Hoshang Boys High School\, Pune\, India
GEO:18.5198845;73.87824479999995
X-APPLE-STRUCTURED-LOCATION;VALUE=URI;X-ADDRESS=Sardar Dastur Hoshang Boys 
 High School\, Pune\, India;X-APPLE-RADIUS=100;X-TITLE=Mazda Hall:geo:18.51
 98845,73.87824479999995
END:VEVENT
END:VCALENDAR