BEGIN:VCALENDAR
VERSION:2.0
PRODID:-//wp-events-plugin.com//7.1.7//EN
BEGIN:VEVENT
UID:262@poonamusic.com
DTSTART:20040312T131500Z
DTEND:20040312T153000Z
DTSTAMP:20150302T203426Z
URL:https://poonamusic.com/events/friedemann-eichhorn-violin-mehroo-jeejee
 bhoy-piano/
SUMMARY:Friedemann Eichhorn\, violin / Mehroo Jeejeebhoy\, piano
DESCRIPTION:Friedemann Eichhorn\, violin / Mehroo Jeejeebhoy\, piano in ass
 ociation with the Fuchs Lubricants India Ltd.
CATEGORIES:Violin and piano recitals
LOCATION:Mazda Hall\, Sardar Dastur Hoshang Boys High School\, Pune\, India
GEO:18.5198845;73.87824479999995
X-APPLE-STRUCTURED-LOCATION;VALUE=URI;X-ADDRESS=Sardar Dastur Hoshang Boys 
 High School\, Pune\, India;X-APPLE-RADIUS=100;X-TITLE=Mazda Hall:geo:18.51
 98845,73.87824479999995
END:VEVENT
END:VCALENDAR