BEGIN:VCALENDAR
VERSION:2.0
PRODID:-//wp-events-plugin.com//7.1.7//EN
BEGIN:VEVENT
UID:1539@poonamusic.com
DTSTART:20210314T180000Z
DTEND:20210314T180000Z
DTSTAMP:20210310T115806Z
URL:https://poonamusic.com/events/geister-duo-piano-4-hands-online-concert
 /
SUMMARY:Geister Duo: Piano 4 hands online concert
DESCRIPTION:Geister Duo: Piano 4 hands\nDavid Salmon and Manuel Vieillard\,
  piano\n\nIn association with Alliance Française de Pune\n\nBeethoven: Co
 mplete piano 4 hands music which includes Sonata Op. 6\, 3 Marches Op. 45\
 , 8 Variations on a theme by Waldstein Wo O 67\, Grosse fugue Op. 134\n\nT
 he Geister Duo are winners of the 1st Prize and the Public choice Prize at
  the "International piano 4 hands Monaco competition" and the 2nd Prize wi
 nners in the Piano duo category at the 2019 Franz Schubert Competition. Co
 nsisting of Manuel Vieillard and David Salmon\, the Geister Duo studied th
 eir repertoire at the Paris Conservatoire with Claire Desert. In 2018 and 
 2019 they were invited by the Roque d'Anthéron festival as ensemble-in-re
 sidence and in 2020 by the Festival Inventio.\n\nThis is the first in a se
 ries of concerts specially sent to The Poona Music Society by Festival Inv
 entio.\n\nThis film will be available for a few weeks.\n\n\n\n
ATTACH;FMTTYPE=image/jpeg:https://poonamusic.com/pms_wp/wp-content/uploads
 /2021/03/geister-duo.jpg
CATEGORIES:Online Concert
LOCATION:https://poonamusic.com/streams/
END:VEVENT
END:VCALENDAR