BEGIN:VCALENDAR
VERSION:2.0
PRODID:-//wp-events-plugin.com//7.1.7//EN
BEGIN:VEVENT
UID:433@poonamusic.com
DTSTART:20011125T131500Z
DTEND:20011125T153000Z
DTSTAMP:20150302T203421Z
URL:https://poonamusic.com/events/giuseppe-verdi-messa-da-requi-chorus-and
 -orchestra-of-la-scala-conducted-by-herbert-von-karajan/
SUMMARY:Giuseppe Verdi: Messa Da Requi\, / Chorus and Orchestra of La Scal
 a conducted by Herbert von Karajan
DESCRIPTION:Giuseppe Verdi: Messa Da Requi\, / Chorus and Orchestra of La 
 Scala conducted by Herbert von Karajan
CATEGORIES:Video screenings
LOCATION:Mazda Hall\, Sardar Dastur Hoshang Boys High School\, Pune\, India
GEO:18.5198845;73.87824479999995
X-APPLE-STRUCTURED-LOCATION;VALUE=URI;X-ADDRESS=Sardar Dastur Hoshang Boys 
 High School\, Pune\, India;X-APPLE-RADIUS=100;X-TITLE=Mazda Hall:geo:18.51
 98845,73.87824479999995
END:VEVENT
END:VCALENDAR