BEGIN:VCALENDAR
VERSION:2.0
PRODID:-//wp-events-plugin.com//7.1.7//EN
BEGIN:VEVENT
UID:417@poonamusic.com
DTSTART:20000324T131500Z
DTEND:20000324T153000Z
DTSTAMP:20150302T203421Z
URL:https://poonamusic.com/events/great-composers-bbc-tv-series-bach-mozar
 t/
SUMMARY:Great Composers -  BBC TV series – Bach / Mozart
DESCRIPTION:Great Composers -  BBC TV series – Bach / Mozart      
CATEGORIES:Video screenings
LOCATION:Concert Hall\, St. Vincent's \, Pune\, Maharashtra\, 411001\, Indi
 a
GEO:18.5127407;73.87542639999992
X-APPLE-STRUCTURED-LOCATION;VALUE=URI;X-ADDRESS=St. Vincent's \, Pune\, Mah
 arashtra\, 411001\, India;X-APPLE-RADIUS=100;X-TITLE=Concert Hall:geo:18.5
 127407,73.87542639999992
END:VEVENT
END:VCALENDAR