BEGIN:VCALENDAR
VERSION:2.0
PRODID:-//wp-events-plugin.com//7.1.7//EN
BEGIN:VEVENT
UID:1550@poonamusic.com
DTSTART:20210808T180000Z
DTEND:20210808T180000Z
DTSTAMP:20210819T074147Z
URL:https://poonamusic.com/events/harold-emert-oboe-and-geremais-cruz-guit
 ar-online-concert/
SUMMARY:Harold Emert\, oboe and Geremais Cruz\, guitar online concert
DESCRIPTION:Harold Emert\, oboe and Geremais Cruz\, guitar\n\nIn a programm
 e of Telemann: Presto\; Fernando Sor: Romanza\, Estudos 5 (guitar solo)\; 
 Robert Johnson: Alman (guitar solo)\; Bittencourt: Modinha\; Villa-Lobos: 
 Ária das Bachianas Brasileiras No. 5 / Adágio do Preludio No. 3\; Bach: 
 Sinfonia from Cantata 156\; Leo Brouwer: Un Dia de Noviembre (guitar solo)
 \; Napoleon Coste: Cavatine Op. 37\; Giacomo Puccini: O Mio Babino Caro\; 
 Enio Morricone: Gabriel's Oboé and Ernesto Nazareth: Odeon (guitar solo)\
 , Apanhei-te\, Cavaquinh\n\nAmerican-Brazilian Oboist and Composer Harold 
 Emert began his studies with Ronald Roseman\, Lois Wann and Harold Gomberg
  (NY Philharmonic)\, graduating with a Bachelors of Arts degree from the A
 aron Copland School of Music earning his Master’s degree. After playing 
 with the American Symphony with Leopold Stokowski including as a soloist (
 Cimarosa Concerto) he took up positions with the South African Radio Broad
 casting (SABC) Orchestra\, solo English horn with the Israel Philharmonic 
 with Zubin Mehta on tour of European festivals and Germany’s Saarbrucken
  Radio Orchestra. A resident of Rio de Janeiro since 1973\, he has played 
 with Brazil’s major orchestras. He has toured internationally as a recit
 alist and visited Pune in February 1986. He performed a solo oboe recital 
 at Gulati Hall under the aegis of The Poona Music Society and has very fon
 d memories of his visit and concert. In November 1987\, he wrote an articl
 e in Musical America about his experiences in India and the selfless dedic
 ation of all the people behind music promotion in Bombay and Poona. When h
 e visited our website and saw that we were presenting online concerts\, he
  volunteered to send us this concert with guitarist Geremias Cruz recorded
  in Teresopolis in Brazil.\n\nThis film will be available for a few weeks.
 \n\n
ATTACH;FMTTYPE=image/jpeg:https://poonamusic.com/pms_wp/wp-content/uploads
 /2021/07/Harold-Emert-1-1.jpg
CATEGORIES:Online Concert
LOCATION:https://poonamusic.com/streams/
END:VEVENT
END:VCALENDAR