BEGIN:VCALENDAR
VERSION:2.0
PRODID:-//wp-events-plugin.com//7.1.7//EN
BEGIN:VEVENT
UID:1555@poonamusic.com
DTSTART:20211031T180000Z
DTEND:20211031T180000Z
DTSTAMP:20211121T122031Z
URL:https://poonamusic.com/events/harold-emert-oboe-and-joao-carlos-assis-
 brasil-piano/
SUMMARY:Harold Emert\, oboe and João Carlos Assis Brasil\, piano
DESCRIPTION:Harold Emert\, oboe and João Carlos Assis Brasil\, piano\n\nIn
  a programme of music by Debussy\, Ravel\, Michel Legrand\, Gershwin and o
 ther popular composers\n\nAmerican – Brazilian oboist Harold Emert’s v
 isit to Pune in 1987 and a concert at Gulati Hall for The Poona Music Soci
 ety\, has remained etched in his memory. He wrote about his travels and ex
 periences in an extensive article published in Musical America in November
  1987.\nRecently\, he reconnected with our Society and has been able to se
 nd us some of his recordings made at concerts in Brazil.\nThis concert was
  professionally filmed for TV Brazil and broadcasted by the TV station.\n\
 nHe is joined here by Brazilian pianist João Carlos Assis Brasil in a ver
 y varied programme of French music\, as well as music from the Americas ar
 ranged for oboe and piano.\n\nThis film will be available for a few weeks.
 \n\n
ATTACH;FMTTYPE=image/jpeg:https://poonamusic.com/pms_wp/wp-content/uploads
 /2021/07/Harold-Emert-1-1.jpg
CATEGORIES:Online Concert
LOCATION:https://poonamusic.com/streams/
END:VEVENT
END:VCALENDAR