BEGIN:VCALENDAR
VERSION:2.0
PRODID:-//wp-events-plugin.com//7.1.7//EN
BEGIN:VEVENT
UID:1174@poonamusic.com
DTSTART:20060305T131500Z
DTEND:20060305T153000Z
DTSTAMP:20150302T203406Z
URL:https://poonamusic.com/events/hohenlohe-brass-quintet-joachim-spieth-a
 nd-martin-jacob-trumpets-nadjia-helble-horn-christof-schmidt-trombone-tobi
 as-ragle-tuba-and-bass-trombone/
SUMMARY:Hohenlohe Brass Quintet - Joachim Spieth and Martin Jacob\, trumpet
 s / Nadjia Helble\, horn / Christof Schmidt\, trombone / Tobias Ragle\, tu
 ba and bass trombone.
DESCRIPTION:Hohenlohe Brass Quintet - Joachim Spieth and Martin Jacob\, tru
 mpets / Nadjia Helble\, horn / Christof Schmidt\, trombone / Tobias Ragle\
 , tuba and bass trombone
CATEGORIES:Ensembles
LOCATION:Mazda Hall\, Sardar Dastur Hoshang Boys High School\, Pune\, India
GEO:18.5198845;73.87824479999995
X-APPLE-STRUCTURED-LOCATION;VALUE=URI;X-ADDRESS=Sardar Dastur Hoshang Boys 
 High School\, Pune\, India;X-APPLE-RADIUS=100;X-TITLE=Mazda Hall:geo:18.51
 98845,73.87824479999995
END:VEVENT
END:VCALENDAR