BEGIN:VCALENDAR
VERSION:2.0
PRODID:-//wp-events-plugin.com//7.1.7//EN
BEGIN:VEVENT
UID:1532@poonamusic.com
DTSTART:20201122T180000Z
DTEND:20201122T180000Z
DTSTAMP:20201202T053441Z
URL:https://poonamusic.com/events/ieva-jokubaviciute-piano-online-concert/
SUMMARY:Ieva Jokubaviciute\, piano online concert
DESCRIPTION:Ieva Jokubaviciute\, piano\n\nIn a programme of Bach-Busoni: Ic
 h ruf zu dir herr Jesu Christ and Schumann: Fantasie Op. 17 (1st movement)
 \n\nIn association with Goethe Institute\, Max Mueller Bhavan\, Pune and A
 lliance Française de Pune\n\n[caption id="attachment_13333" align="alignl
 eft" width="200"] Photo: Monika Požerskytė[/caption]\n\nLithuanian piani
 st Ieva Jokubaviciute’s powerfully and intricately crafted performances 
 have earned her critical acclaim throughout North America and Europe. ‘S
 he is an artist of commanding technique\, refined temperament and persuasi
 ve insight.' The New York Times\n\nIeva appears in concert with renowned m
 usicians such as violinist Midori with whom she did a recital in Pune a ye
 ar ago. These performances were recorded for the Chesapeake Chamber Music 
 festival which she has kindly shared with us.\n\nThis film will be availab
 le for a few weeks.\n\n\n\n&nbsp\;\n\n
ATTACH;FMTTYPE=image/jpeg:https://poonamusic.com/pms_wp/wp-content/uploads
 /2020/10/Ieva-Neda-Navaee-crop.jpg
CATEGORIES:Online Concert
LOCATION:https://poonamusic.com/streams/
END:VEVENT
END:VCALENDAR