BEGIN:VCALENDAR
VERSION:2.0
PRODID:-//wp-events-plugin.com//7.1.7//EN
BEGIN:VEVENT
UID:1465@poonamusic.com
DTSTART:20181007T130000Z
DTEND:20181007T130000Z
DTSTAMP:20180914T115750Z
URL:https://poonamusic.com/events/il-trio-allopera-n-gravilan-mezzo-sopran
 o-m-simeoli-flute-and-i-filistovich-piano/
SUMMARY:Il Trio All'Opera : A Present to G. Rossini - 150th Anniversary
DESCRIPTION:Il Trio All'Opera\nA Present to Gioachino Rossini (1868 - 2018 
 150th Anniversary)\n\nNatalia Gavrilan\, mezzo soprano\nMaurizio Simeoli\,
  flute and piccolo\nInessa Filistovich\, piano\n\n\nProgramme of Arias and
  arrangements from Rossini operas\n\nIn a programme of G. Rossini: “Fac 
 ut portem\, Christi mortem” Cavatina from “Stabat Mater” for Voice\,
  Flute and Piano\, "Una voce poco fa" from "Il Barbiere di Siviglia" for V
 oice\, Flute and Piano\, “Contro un cor che accende amore” from "Il Ba
 rbiere di Siviglia" for Voice\, Flute and Piano\, "Nacqui all'affanno" fro
 m "La Cenerentola" for Voice\, Flute and Piano\, "L'orgia" from “Soirée
 s musicales” for Voice\, Flute and Piano\, "L'invito" from “Soirées m
 usicales” for Voice\, Flute and Piano and "La danza" (Tarantella napolet
 ana) from “Soirées musicales” for Voice\, Flute and Piano\; M. Simeol
 i: “Fantasia all’italiana”\, homage to G. Rossini for Piccolo and Pi
 ano\; R. Galli: “Il Barbiere di Siviglia” Fantasy for Flute and Piano 
 (rev. for Flute and Piano by M. Simeoli/I. Filistovich\; F. Chopin-G.Rossi
 ni: Variations in E major on a Theme Non più mesta from Rossini's “La C
 enerentola” for Piccolo and Piano and P. Morlacchi: “Il Pastore svizze
 ro” for Piccolo and Piano (rev. by M. Simeoli)\n\nIn collaboration with 
 Italian embassy Cultural Centre Delhi and Mumbai\n\nNatalia Gavrilan\, mez
 zo-soprano was born in Chisinau. She is the winner of several awards in in
 ternational competitions such as Mikhail Glinka Contest\, Francisco Viñas
  Singing Competition and the Alexei Stârcea Contest. She started her oper
 a study at the age of 15\, taking private lessons from Polina Botezat and 
 Vladimir Dragosh at the Moldova Music Academy and masterclasses from Irina
  Arkhipova.\n\nSince the year 2000 Natalia Gavrilan has collaborated with 
 Teatro alla Scala (Milano)\, The Metropolitan Opera (New York)\, San Carlo
 s (Lisbon)\, Opera in Catalunia\, Il Teatro Massimo (Palermo)\, Il Teatro 
 Petruzelli (Bari)\, Il Teatro Politeama (Lecce)\, Il Teatro di Cilea (Regg
 io Calabria)\, Il Comunale (Reggio Emilia)\, Il Teatro Filarmonico (Verona
 )\, Il Comunale (Modena)\, Grand Theater di Geneve\, Rossini Opera Festiva
 l (Pesaro)\, Auditorium Nacional (Madrid)\, MiTo festival (Milano)\, Print
 emps des Arts (Monte Carlo)\, Baltic Seasons festival (Kaliningrad)\, Byza
 ntine Culture festival (Istanbul) and on a Teatro alla Scala Mexican tour.
  Natalia Gavrilan is also engaged in teaching and was invited as an Opera 
 vocal technique coach in Catalunia.\n\nMaurizio Simeoli studied under Gius
 eppe Rocca (Solo Piccolo of La Scala Opera House) graduating in 1981. In 1
 982 he was invited to play at the “Teatro Regio Opera House Orchestra”
  in Parma as Solo Flute and Piccolo. From 1983 to 2010 he played at the 
 “La Scala Opera House” under the direction of all the world’s most f
 amous conductors\, taking part in all the theatre’s works\, all the inte
 rnational tours\, recordings and videos\, as well as all of the concerts o
 f the La Scala Philharmonic Orchestra. On many occasions he also covered t
 he role of Solo Flute. Since 2010 he has worked with other orchestras like
  Staatskapelle Berlin\, Staatskapelle Dresden\, Berlin Philharmonic\, Mari
 nskiy Theatre\, Lucerne festival and many others.\n\nHe has recorded a Viv
 aldi Piccolo concerto with I Solisti Veneti under Claudio Scimone\, a CD c
 alled Magic Piccolo and another Vivaldi album on the Yamaha Piccolo Flute 
 YPC91/92 M. Simeoli Model named after him. Maestro Simeoli also teaches fl
 ute and Piccolo all over the world.\n\nInessa &nbsp\;Filistovich was born 
 in Minsk (Belarus) and graduated brilliantly and very early from M. I. Gli
 nka Conservatory. After moving to Italy\, she graduated in Piano Cum Laude
  once more from the G. Verdi Conservatory in Milan and also as a harpsicho
 rdist. She later studied with Oleg Marshev and&nbsp\; dedicated herself pr
 incipally to chamber music and accompaniment in masterclasses where she ha
 s collaborated with such well known artists as Mirella Freni\, Fiorenza Ce
 dolins\, Luigi Alva\, Jaume Aragal\, Marco Berti\, Bruno Cavallo\, Glauco\
 , Cambursano\, Davide Formisano\, Bruno Grossi and Maurizio Simeoli. As a 
 post graduate she trained as a repetiteur at La Scala Opera House Academy 
 and worked on many productions with famous conductors.&nbsp\; She has acco
 mpanied the tenor Vittorio Grigòlo in his touring project “Italia un So
 gno”.\n\n&nbsp\;&nbsp\;&nbsp\;
ATTACH;FMTTYPE=image/jpeg:https://poonamusic.com/pms_wp/wp-content/uploads
 /2018/07/Inessa-cccrop-1.jpg
CATEGORIES:Vocal Recitals
LOCATION:Mazda Hall\, Sardar Dastur Hoshang Boys High School\, Pune\, India
GEO:18.5198845;73.87824479999995
X-APPLE-STRUCTURED-LOCATION;VALUE=URI;X-ADDRESS=Sardar Dastur Hoshang Boys 
 High School\, Pune\, India;X-APPLE-RADIUS=100;X-TITLE=Mazda Hall:geo:18.51
 98845,73.87824479999995
END:VEVENT
END:VCALENDAR