BEGIN:VCALENDAR
VERSION:2.0
PRODID:-//wp-events-plugin.com//7.1.7//EN
BEGIN:VEVENT
UID:1464@poonamusic.com
DTSTART:20180819T120000Z
DTEND:20180819T120000Z
DTSTAMP:20180811T142142Z
URL:https://poonamusic.com/events/il-turco-in-italia-by-gioacchino-rossini
 -opera-screening/
SUMMARY:Il Turco in Italia by Gioacchino Rossini - Opera screening
DESCRIPTION:Il Turco in Italia&nbsp\;\nGioacchino Rossini (1792 – 1868)\n
 Film screening from Festival d'Aix En Provence (2014)\n\nOpera in two acts
 .&nbsp\;Libretto by Felice Romani.&nbsp\;It was first performed on 14 Augu
 st 1814 at the Teatro alla Scala in Milan.\n\nMusic Direction: Marc Minkow
 ski\nDirector: Christopher Alden\nSet designer: Andrew Lieberman\nCostumes
 : Voyce Kaye\nLight: Adam Silverman\n\nSelim: Adrian Sampetrean\nFiorilla:
  Olga Peretyatko\nDon Geronio: Alessandro Corbelli\nDon Narciso: Lawrence 
 Brownlee\nProsdocimo: Pietro Spagnoli\nZaida: Cecelia Hall\nAlbazar: Juan 
 Sancho\n\nChoir Vocal: Ensemble Aedes\nChoir Leader: Mathieu Romano\nOrche
 stra the musicians of the Louvre Grenoble\nIn co-production with the Teatr
  Wielki – National Opera of Poland\, the Teatro Regina Torino\, Turin an
 d the opera of Dijon.\n\nBy a radiant sunshine of opera Chow\, here is a w
 ell-made Turkish prince of his person and endowed with an agile bass voice
  arrives on the Neapolitan coast in search of women's adventures. He soon 
 met an Italian petulant\, soprano as flirtatious as virtuoso\, accustomed 
 to flit with his admirers to the chagrin of his old husband. All this litt
 le world desires\, gets jealous and fights under the eyes of the poet Pros
 docimo and for his greatest happiness. Because this author in search of ch
 aracters sought precisely the inspiration for a piece to be written. He wi
 ll go so far as to influence the actions of these tragicomic-comic figures
 \, giving an almost pirandellienne dimension to the craziest but also the 
 most delicate opera of Gioacchino Rossini.\n\n[caption id="attachment_9140
 " align="aligncenter" width="1000"] LE TURC EN ITALIE\, IL TURCO IN ITALIA
 (photo by Patrick Berger/ArtComArt)[/caption]\n\n 
ATTACH;FMTTYPE=image/jpeg:https://poonamusic.com/pms_wp/wp-content/uploads
 /2018/07/Festival_010249_Oricrop-3.jpg
CATEGORIES:Opera screening
LOCATION:Mazda Hall\, Sardar Dastur Hoshang Boys High School\, Pune\, India
GEO:18.5198845;73.87824479999995
X-APPLE-STRUCTURED-LOCATION;VALUE=URI;X-ADDRESS=Sardar Dastur Hoshang Boys 
 High School\, Pune\, India;X-APPLE-RADIUS=100;X-TITLE=Mazda Hall:geo:18.51
 98845,73.87824479999995
END:VEVENT
END:VCALENDAR