BEGIN:VCALENDAR
VERSION:2.0
PRODID:-//wp-events-plugin.com//7.1.7//EN
BEGIN:VEVENT
UID:919@poonamusic.com
DTSTART:20050519T131500Z
DTEND:20050519T153000Z
DTSTAMP:20150302T203410Z
URL:https://poonamusic.com/events/image-quartet-francois-chambert-clarinet
 -flute-saxophone-vincent-laurent-clarinet-arnaud-pairier-clarinet-and-bass
 et-horn-bruno-cohard-bass-clarinet-jean-bernard-laserre-percussion/
SUMMARY:Image Quartet - Francois Chambert: clarinet\, flute\, saxophone / V
 incent Laurent - clarinet / Arnaud Pairier: clarinet and basset horn / Bru
 no Cohard: bass clarinet / Jean-Bernard Laserre: percussion and drums
DESCRIPTION:Image Quartet - Francois Chambert: clarinet\, flute\, saxophone
  / Vincent Laurent - clarinet / Arnaud Pairier: clarinet and basset horn /
  Bruno Cohard: bass clarinet / Jean-Bernard Laserre: percussion and drums
CATEGORIES:Jazz
LOCATION:Mazda Hall\, Sardar Dastur Hoshang Boys High School\, Pune\, India
GEO:18.5198845;73.87824479999995
X-APPLE-STRUCTURED-LOCATION;VALUE=URI;X-ADDRESS=Sardar Dastur Hoshang Boys 
 High School\, Pune\, India;X-APPLE-RADIUS=100;X-TITLE=Mazda Hall:geo:18.51
 98845,73.87824479999995
END:VEVENT
END:VCALENDAR