BEGIN:VCALENDAR
VERSION:2.0
PRODID:-//wp-events-plugin.com//7.1.7//EN
BEGIN:VEVENT
UID:1397@poonamusic.com
DTSTART:20161129T133000Z
DTEND:20161129T133000Z
DTSTAMP:20161125T115407Z
URL:https://poonamusic.com/events/india-poland-music-without-borders/
SUMMARY:India and Poland Music without borders
DESCRIPTION:Suka and Sarangi\, ancient musical instruments\, creating music
  for XXI Century\n\nIn association with the Embassy of the Republic of Pol
 and\n\n\n\nProf. Maria Pomianowska travelled to Delhi to learn Indian clas
 sical music\, from Ustad Sabri Khan and Pt. Ram Narayan in 1984. Back in P
 oland\, thanks to Indian experiences\, Maria reconstructed the forgotten P
 olish instrument Suka\, very similar to Sarangi which has not existed in P
 olish music for the last 100 years.\n\nUstad Ikram Khan son of legendary U
 stad Nizamuddin Khan\, who was also a very famous sarangi player from Jaip
 ur is one of a leading solo Sarangi Maestro of India today.\n\nIn this pro
 ject\, these two great Musicians will be making music together with the an
 cient sound of Poland\, SUKA\, and the soul of Indian sound\, SARANGI\, in
  close soulful dialogues. They will also be accompanied by Polish students
  Aleksandra Kauf and Karolina Matuszkiewicz learning Polish traditional mu
 sic from Maria Pomianowska and Indian student Shaheen Parvez who is learni
 ng Indian classical music from Ikram Khan and also accompanied by Rahul Po
 phali tabla maestro. This concert will be great meeting of two cultures an
 d two generations.
ATTACH;FMTTYPE=image/jpeg:https://poonamusic.com/pms_wp/wp-content/uploads
 /2016/11/Maria-Pomianowskacrop11.jpg
CATEGORIES:World Music
LOCATION:Mazda Hall\, Sardar Dastur Hoshang Boys High School\, Pune\, India
GEO:18.5198845;73.87824479999995
X-APPLE-STRUCTURED-LOCATION;VALUE=URI;X-ADDRESS=Sardar Dastur Hoshang Boys 
 High School\, Pune\, India;X-APPLE-RADIUS=100;X-TITLE=Mazda Hall:geo:18.51
 98845,73.87824479999995
END:VEVENT
END:VCALENDAR