BEGIN:VCALENDAR
VERSION:2.0
PRODID:-//wp-events-plugin.com//7.1.7//EN
BEGIN:VEVENT
UID:521@poonamusic.com
DTSTART:20001102T131500Z
DTEND:20001102T153000Z
DTSTAMP:20150302T203419Z
URL:https://poonamusic.com/events/ingo-van-wilke-magician/
SUMMARY:Ingo Van Wilke\, Magician
DESCRIPTION:Ingo Van Wilke\, Magician in association with the Max Mueller B
 havan and the Indian Council for Cultural Relations
CATEGORIES:Theatre
LOCATION:Concert Hall\, St. Vincent's \, Pune\, Maharashtra\, 411001\, Indi
 a
GEO:18.5127407;73.87542639999992
X-APPLE-STRUCTURED-LOCATION;VALUE=URI;X-ADDRESS=St. Vincent's \, Pune\, Mah
 arashtra\, 411001\, India;X-APPLE-RADIUS=100;X-TITLE=Concert Hall:geo:18.5
 127407,73.87542639999992
END:VEVENT
END:VCALENDAR