BEGIN:VCALENDAR
VERSION:2.0
PRODID:-//wp-events-plugin.com//7.1.7//EN
BEGIN:VEVENT
UID:1569@poonamusic.com
DTSTART:20080326T190000Z
DTEND:20080326T190000Z
DTSTAMP:20220415T035431Z
URL:https://poonamusic.com/events/interaction-by-the-arties-chamber-music-
 group-with-the-students-of-k-c-thackeray-vidya-niketan/
SUMMARY:Interaction by the Artie’s Chamber Music group with the students 
 of K.C. Thackeray Vidya Niketan.
DESCRIPTION:Interaction by the Artie’s Chamber Music group with the stude
 nts of K.C. Thackeray Vidya Niketan.
CATEGORIES:Outreach
END:VEVENT
END:VCALENDAR