BEGIN:VCALENDAR
VERSION:2.0
PRODID:-//wp-events-plugin.com//7.1.7//EN
BEGIN:VEVENT
UID:1567@poonamusic.com
DTSTART:20080218T190000Z
DTEND:20080218T190000Z
DTSTAMP:20220415T035255Z
URL:https://poonamusic.com/events/interaction-by-the-arties-chamber-music-
 group-with-the-students-of-the-suzuki-school-of-violin-and-children-of-the
 -vidya-valley-school/
SUMMARY:Interaction by the Artie’s Chamber Music group with the students 
 of the Suzuki School of Violin and children of the Vidya Valley School
DESCRIPTION:Interaction by the Artie’s Chamber Music group with the stude
 nts of the Suzuki School of Violin and children of the Vidya Valley School
CATEGORIES:Outreach
END:VEVENT
END:VCALENDAR