BEGIN:VCALENDAR
VERSION:2.0
PRODID:-//wp-events-plugin.com//7.1.7//EN
BEGIN:VEVENT
UID:1425@poonamusic.com
DTSTART:20170911T133000Z
DTEND:20170911T133000Z
DTSTAMP:20170910T132924Z
URL:https://poonamusic.com/events/istvan-vardai-cello-zoltan-fejervari-pia
 no/
SUMMARY:Zoltán Fejérvári\, piano
DESCRIPTION:Zoltán Fejérvári\, piano\n\n\nSupported by Balassi Institute
 \, New Delhi\n\nIn a programme of Bach : Partita No. 1 BWV 825\; Beethoven
  : Sonata Op. 53 (Waldstein) and Liszt : Sonata in B minor\n\nWinner of th
 e 2017 Concours Musical International de Montréal for piano and recipient
  of a Borletti-Buitoni Trust Fellowship\, Zoltán Fejérvári has appeared
  in recitals throughout Europe and the United States in prestigious venues
 . He has performed as a soloist with the Budapest Festival Orchestra\, the
  Hungarian National Orchestra and the Verbier Festival Orchestra among oth
 ers. He is invited regularly to Chamber music festivals like Marlboro\, Ka
 posvar and Prussia Cove where he performs with the most distinguished musi
 cians.\n\nhttp://zoltanfejervari.com/en/bio\n\n\n\n&nbsp\;\n\n
ATTACH;FMTTYPE=image/jpeg:https://poonamusic.com/pms_wp/wp-content/uploads
 /2017/07/Zoltan_Fejervari_credit_Balazs_BoroczCROP.jpg
CATEGORIES:Piano recitals
LOCATION:Mazda Hall\, Sardar Dastur Hoshang Boys High School\, Pune\, India
GEO:18.5198845;73.87824479999995
X-APPLE-STRUCTURED-LOCATION;VALUE=URI;X-ADDRESS=Sardar Dastur Hoshang Boys 
 High School\, Pune\, India;X-APPLE-RADIUS=100;X-TITLE=Mazda Hall:geo:18.51
 98845,73.87824479999995
END:VEVENT
END:VCALENDAR