BEGIN:VCALENDAR
VERSION:2.0
PRODID:-//wp-events-plugin.com//7.1.7//EN
BEGIN:VEVENT
UID:1337@poonamusic.com
DTSTART:20150510T130000Z
DTEND:20150510T153000Z
DTSTAMP:20170308T172557Z
URL:https://poonamusic.com/events/italian-opera-duo/
SUMMARY:Italian Opera – Angela Papale\, soprano / Fabio Marra\, piano
DESCRIPTION:The great season of Melodrama\n Hommage to Giacomo Puccini and 
 Giuseppe Martucci\n In an Opera Recital with Angela Papale\, soprano and F
 abio Marra\, piano\n In a programme of G. Verdi: Morrò\, ma prima in gra
 zia (Un ballo in maschera)\, Ernani involami (Ernani)\; A. Ponchielli: Sui
 cidio (La Gioconda)\; G. Martucci: Al folto bosco (La canzone dei ricordi)
 \; G. Puccini: Un bel dì vedremo (Madama Butterfly)\, Sola\, perduta\, ab
 bandonata (Manon Lescaut)\, Senza mamma (Suor Angelica)\, Terra e mare\, S
 ole e amore\, Morire? and F. P. Tosti: Se tu non torni\, Perdutamente and 
 Baciami!\n\nAngela Papale completed her music studies in Italy at her town
  Conservatory\, and advanced her vocal training under the tutelage of grea
 t Italian singers such as Magda Olivero\, Paolo Montarsolo and Fiorenza Co
 ssotto. She has won prizes at numerous international competitions such as 
 Cascina Lirica\, San Remo Classica\, Città di Roma and is involved in int
 ense concert activities in Italy and all over the world\, winning the unan
 imous approval of audiences and international critics. She collaborates wi
 th important orchestras\, holding shows at theatres\, prestigious associat
 ions\, concert halls and has performed title roles in operas such as: La B
 ohème at Seoul Opera House\, Manon Lescaut at Merano Opera Festival\, La 
 forza del destino at International Opera Fest Kiel and Un ballo in mascher
 a at National Theatre of Mexico.\n\nFabio Marra graduated with high honou
 rs in Piano\, Composition and Conducting and maintains a busy performance 
 schedule as soloist\, accompanist and conductor. He is the Professor of Ha
 rmony\, Analysis and Composition at the Music Conservatory “A.Vivaldi”
  in Alessandria\, advisor to major organizations and Theatres such as Teat
 ro alla Scala\, Milan and Teatro Carlo Felice\, Genova. He has performed a
 ll over the world and is an assistant of the renowned musicologist and con
 ductor Alberto Zedda\, producing Rossini Operas\, as well as researching u
 nedited 18th century Operas of the Neapolitan period. Currently\, he is th
 e conductor of the "Merano Chamber Orchestra" (Italy).\n\n\n\n&nbsp\;
ATTACH;FMTTYPE=image/jpeg:https://poonamusic.com/pms_wp/wp-content/uploads
 /2015/04/Angela-and-Fabiocrop.jpg
CATEGORIES:Vocal Recitals
LOCATION:Mazda Hall\, Sardar Dastur Hoshang Boys High School\, Pune\, India
GEO:18.5198845;73.87824479999995
X-APPLE-STRUCTURED-LOCATION;VALUE=URI;X-ADDRESS=Sardar Dastur Hoshang Boys 
 High School\, Pune\, India;X-APPLE-RADIUS=100;X-TITLE=Mazda Hall:geo:18.51
 98845,73.87824479999995
END:VEVENT
END:VCALENDAR