BEGIN:VCALENDAR
VERSION:2.0
PRODID:-//wp-events-plugin.com//7.1.7//EN
BEGIN:VEVENT
UID:1544@poonamusic.com
DTSTART:20210523T180000Z
DTEND:20210523T180000Z
DTSTAMP:20210523T111315Z
URL:https://poonamusic.com/events/italian-piano-rarities-online-concert/
SUMMARY:Italian Piano Rarities online concert
DESCRIPTION:Italian Piano Rarities\nRoberto Prosseda\, piano\n\nIn associat
 ion with Italian Embassy Cultural Centre\, Mumbai\n\nProgramme: Gioachino 
 Rossini: Une caresse à ma femme\, Petite Valse du boudoir\; Giuseppe Verd
 i: Romanza in F major\, Valzer in F major\; Alfonso Rendano: Notturno in E
  major\; Roffredo Caetani: Ballata Op. 9 in F sharp minor and Luigi Dallap
 iccola: Sonatina Canonica su Capricci di Paganini\n\nWho would think that 
 Rossini and Verdi composed music for piano\, Primarily known for their ope
 ras\, the piano music of these composers is now gaining in popularity. Ren
 dano and Caetani were Romantic composers. Rendano is more famous for being
  the inventor of the third pedal of the modern piano. Caetani was from a a
 ristocratic family and was a music lover thanks to the influence of his fa
 ther. Caetani composed piano\, chamber and symphonic music which became qu
 ite popular\, even in his lifetime. Dalapiccola is definitely one of Italy
 ’s most famous 20th century composers who adopted the 12 tone technique.
 \n\nWho better to play this music than Roberto Prosseda? Having curated th
 is entire series\, Roberto’s enthusism for bringing rarities out of the 
 closet\, to connecting people to music and technology\, to championing the
  proliferation of Italian music in India is unparalleled..\n\nRoberto Pros
 seda’s sensational discovery of new works by Mendelssohn made the headli
 nes in Europe and led to several Decca releases. His albums have won much 
 acclaim in the press\, including the CHOC from Le Monde de la Musique Clas
 sique\, the Diapason d’Or and Chamber Music CD of the Month in the UK’
 s Classic FM magazine.\n\nIn September 2011\, Prosseda gave his debut on t
 he pedal piano\, performing the Concerto for Pedal Piano by Gounod in the 
 world premiere in modern times. He has given more than 50 concerts with th
 e pedal piano\, rediscovering the original compositions by Robert Schumann
 \, Franz Liszt and Charles Valentin Alkan. Several composers\, including E
 nnio Morricone\, have already written new pieces for pedal piano for Rober
 to Prosseda\, and a recording of Gounod's four pieces for pedal piano and 
 orchestra with the Orchestra della Svizzera Italiana conducted by Howard S
 helley was released on the Hyperion label in 2013. Roberto Prosseda is als
 o very active in musical divulgation. He wrote the book “Il Pianoforte
 ” for Edizioni Curci (2013) and made three documentaries dedicated to Me
 ndelssohn\, Chopin and Liszt (Euroarts).\n\nThis film will be available fo
 r a few weeks.\n\n\n\n
ATTACH;FMTTYPE=image/jpeg:https://poonamusic.com/pms_wp/wp-content/uploads
 /2021/04/R-Prosseda.jpg
CATEGORIES:Online Concert
LOCATION:https://poonamusic.com/streams/
END:VEVENT
END:VCALENDAR