BEGIN:VCALENDAR
VERSION:2.0
PRODID:-//wp-events-plugin.com//7.1.7//EN
BEGIN:VEVENT
UID:277@poonamusic.com
DTSTART:19741204T134500Z
DTEND:19741204T160000Z
DTSTAMP:20250616T131116Z
URL:https://poonamusic.com/events/jan-novotny-piano-josef-kadousek-viola/
SUMMARY:Jan Novotny\, piano / Josef Kadousek\, viola
DESCRIPTION:Jan Novotny\, piano / Josef Kadousek\, viola\n\nDownload concer
 t PROGRAMME here\n\nAdditional programme details
CATEGORIES:Viola and piano recitals
LOCATION:Concert Hall\, St. Vincent's \, Pune\, Maharashtra\, 411001\, Indi
 a
GEO:18.5127407;73.87542639999992
X-APPLE-STRUCTURED-LOCATION;VALUE=URI;X-ADDRESS=St. Vincent's \, Pune\, Mah
 arashtra\, 411001\, India;X-APPLE-RADIUS=100;X-TITLE=Concert Hall:geo:18.5
 127407,73.87542639999992
END:VEVENT
END:VCALENDAR