BEGIN:VCALENDAR
VERSION:2.0
PRODID:-//wp-events-plugin.com//7.1.7//EN
BEGIN:VEVENT
UID:1526@poonamusic.com
DTSTART:20200823T180000Z
DTEND:20200823T180000Z
DTSTAMP:20200926T110723Z
URL:https://poonamusic.com/events/jean-michel-dayez-piano-online-concert-2
 /
SUMMARY:Jean-Michel Dayez\, piano\, online concert
DESCRIPTION:Jean-Michel Dayez\, piano\n\nIn association with Goethe Institu
 te\, Max Mueller Bhavan\, Pune and Alliance Française de Pune\n\nIn a pro
 gramme of Beethoven: Sonata Op. 111\n\nJean-Michel Dayez was born near Val
 enciennes in the north of France. He graduated from the Valenciennes and L
 ille Conservatoires\, then joined Jean-Claude Vanden Eynden's class at the
  Brussels Royal Conservatory in 1997. A year later he graduated with flyin
 g colours and was awarded the\nSpecial Jury Prize. In 1998\, he was admitt
 ed to the Chapelle Musicale Reine Elizabeth where he studied for three yea
 rs and graduated with the highest\nhonours.\n\nHis repertoire ranges from 
 Bach to Berio\, and he is the pianist of the Leos trio founded in 2013 wit
 h Guillaume Lafeuille and Pablo Schatzman. He also takes part in numerous 
 recitals with singers\, with instrumentalists and with orchestra\, and has
  frequently been to India as part of Artie's festival.\n\nPlease follow th
 e link: http://poonamusic.com/streams/\n\n\n\n
ATTACH;FMTTYPE=image/jpeg:https://poonamusic.com/pms_wp/wp-content/uploads
 /2020/07/JeanMichelDayez.jpg
CATEGORIES:Online Concert
LOCATION:https://poonamusic.com/streams/
END:VEVENT
END:VCALENDAR