BEGIN:VCALENDAR
VERSION:2.0
PRODID:-//wp-events-plugin.com//7.1.7//EN
BEGIN:VEVENT
UID:1523@poonamusic.com
DTSTART:20200719T180000Z
DTEND:20200719T180000Z
DTSTAMP:20200926T104705Z
URL:https://poonamusic.com/events/jean-michel-dayez-piano-online-concert/
SUMMARY:Jean-Michel Dayez\, piano\, online concert
DESCRIPTION:Jean-Michel Dayez\, piano\n\nIn association with Goethe Institu
 te\, Max Mueller Bhavan\, Pune and Alliance Française de Pune\n\nProgramm
 e: Ravel: Le Tombeau de Couperin (Excerpts) and Beethoven: Sonata Op. 110\
 n\nJean-Michel Dayez studied in Brussels under Jean-Claude Vanden Eynden\,
  besides other conservatories in France. A laureate of several competition
 s\, he received grants from the Émile Bernheim Foundation (Brussels) and 
 the Meyer Foundation (Paris). A fine chamber musician\, Dayez also plays t
 he great concerto repertoire and recital programmes and has frequently bee
 n to India as part of Artie’s festival.\n\nPlease follow the link: http:
 //poonamusic.com/streams/\n\n\n\n&nbsp\; 
ATTACH;FMTTYPE=image/jpeg:https://poonamusic.com/pms_wp/wp-content/uploads
 /2020/07/JeanMichelDayez.jpg
CATEGORIES:Online Concert
LOCATION:https://poonamusic.com/streams/
END:VEVENT
END:VCALENDAR