BEGIN:VCALENDAR
VERSION:2.0
PRODID:-//wp-events-plugin.com//7.1.7//EN
BEGIN:VEVENT
UID:1571@poonamusic.com
DTSTART:20190328T000000Z
DTEND:20190328T000000Z
DTSTAMP:20220415T040813Z
URL:https://poonamusic.com/events/jia-yi-he-harmonica-for-the-royal-harmon
 ica-club/
SUMMARY:Interactive session of Stuttgart Chamber Orchestra with students of
  St. Helena’s school.   
DESCRIPTION:Interactive session of Stuttgart Chamber Orchestra with student
 s of St. Helena’s school.
CATEGORIES:Outreach
END:VEVENT
END:VCALENDAR