BEGIN:VCALENDAR
VERSION:2.0
PRODID:-//wp-events-plugin.com//7.1.7//EN
BEGIN:VEVENT
UID:1347@poonamusic.com
DTSTART:20150913T130000Z
DTEND:20150913T153000Z
DTSTAMP:20150915T041130Z
URL:https://poonamusic.com/events/joanne-dmello-soprano-and-sung-ah-park-p
 iano/
SUMMARY:Joanne D’Mello\, soprano and Sung-Ah Park\, piano
DESCRIPTION:Joanne D’Mello\, soprano and Sung-Ah Park\, piano\n\nIn a pro
 gramme of arias by Schumann\, Schubert\, Mendelssohn-Bartholdy\, Wolf\, St
 rauss\, Puccini\, Dvořák and Lehár \n\nJoanne D’Mello comes from Goa 
 where she studied the violin and singing at the Kala Academy. Joanne won p
 rizes at the All India Voice Competitions organised by The Poona Music Soc
 iety. She has a B. Mus from the Royal College of Music in London where she
  studied with Patricia Rozario OBE. In 2013\, Joanne was awarded a DAAD Ar
 tist Scholarship to pursue higher studies in Germany at the Felix Mendelss
 ohn Bartholdy Hochschule für Musik und Theater in Leipzig with Regina Die
 trich-Werner. Joanne just made her debut in the role of Susanna in Mozart
 ’s Le nozze di Figaro in Weikersheim (Germany).\n\nSouth Korean born pia
 nist Sung-Ah Park has just completed a Meisterklasse degree at the Conserv
 atory in Leipzig on a German Scholarship\, where she studied vocal co-repe
 tition and song accompaniment with Alexander Schmalcz. She has a wide rang
 e of experience as a soloist and accompanist. She has performed extensivel
 y in South Korea\, notably the Mozart Piano Concerto No. 26 with Pusan Sym
 phony Ochestra. In 2007\, she was awarded "Young Artist of the Year 2007" 
 by PBC Broadcasting\, Pusan in South Korea. Sung-Ah Park completed a Maste
 r’s degree in Solo Piano (from South Korea) before moving to Germany to 
 pursue a Master’s degree in vocal co-repetition.\n\n
ATTACH;FMTTYPE=image/jpeg:https://poonamusic.com/pms_wp/wp-content/uploads
 /2015/08/sung-crop.jpg
CATEGORIES:Vocal Recitals
LOCATION:Mazda Hall\, Sardar Dastur Hoshang Boys High School\, Pune\, India
GEO:18.5198845;73.87824479999995
X-APPLE-STRUCTURED-LOCATION;VALUE=URI;X-ADDRESS=Sardar Dastur Hoshang Boys 
 High School\, Pune\, India;X-APPLE-RADIUS=100;X-TITLE=Mazda Hall:geo:18.51
 98845,73.87824479999995
END:VEVENT
END:VCALENDAR