BEGIN:VCALENDAR
VERSION:2.0
PRODID:-//wp-events-plugin.com//7.1.7//EN
BEGIN:VEVENT
UID:1599@poonamusic.com
DTSTART:20230426T193000Z
DTEND:20230426T193000Z
DTSTAMP:20250707T035430Z
URL:https://poonamusic.com/events/kelsey-rae-2b1/
SUMMARY:Kelsey Rae + 2B1 - Saving the planet through song
DESCRIPTION:Kelsey Rae + 2B1\nSaving the planet through songs\n\nIn associa
 tion with U.S. Consulate\, Mumbai\n\nKelsey Rae\nIvan Cruz\nPablo Barragan
  \nRyan Dahir\nAnthony Grant\n\nKelsey Rae and 2B1 have been traveling the
  world with their inspirational message of saving the planet through song 
 and dance for decades. With their positive music and contagious energy\, 2
 B1 connects with all ages in such an impactful way. Singing\, Unique “re
 cycled” instruments\, breakdancing\, drumming\, it’s a variety show th
 at leaves a vibration that spreads throughout a crowd. When Kelsey created
  this show\, she had no idea it would bring such a purpose and meaning int
 o her life. “No matter the age\, culture\, or background\, music is a un
 iversal language that connects us with our planet and each other”.\n\n
ATTACH;FMTTYPE=image/jpeg:https://poonamusic.com/pms_wp/wp-content/uploads
 /2023/04/image001.jpg
CATEGORIES:World Music
LOCATION:Mazda Hall\, Sardar Dastur Hoshang Boys High School\, Pune\, India
GEO:18.5198845;73.87824479999995
X-APPLE-STRUCTURED-LOCATION;VALUE=URI;X-ADDRESS=Sardar Dastur Hoshang Boys 
 High School\, Pune\, India;X-APPLE-RADIUS=100;X-TITLE=Mazda Hall:geo:18.51
 98845,73.87824479999995
END:VEVENT
END:VCALENDAR