BEGIN:VCALENDAR
VERSION:2.0
PRODID:-//wp-events-plugin.com//7.1.7//EN
BEGIN:VEVENT
UID:256@poonamusic.com
DTSTART:20020309T131500Z
DTEND:20020309T153000Z
DTSTAMP:20150302T203426Z
URL:https://poonamusic.com/events/ladislav-broszman-violin-christina-zulau
 f-piano/
SUMMARY:Ladislav Broszman\, violin / Christina Zulauf\, piano
DESCRIPTION:Ladislav Broszman\, violin / Christina Zulauf\, piano 
CATEGORIES:Violin and piano recitals
LOCATION:Mazda Hall\, Sardar Dastur Hoshang Boys High School\, Pune\, India
GEO:18.5198845;73.87824479999995
X-APPLE-STRUCTURED-LOCATION;VALUE=URI;X-ADDRESS=Sardar Dastur Hoshang Boys 
 High School\, Pune\, India;X-APPLE-RADIUS=100;X-TITLE=Mazda Hall:geo:18.51
 98845,73.87824479999995
END:VEVENT
END:VCALENDAR