BEGIN:VCALENDAR
VERSION:2.0
PRODID:-//wp-events-plugin.com//7.1.7//EN
BEGIN:VEVENT
UID:1469@poonamusic.com
DTSTART:20181030T133000Z
DTEND:20181030T133000Z
DTSTAMP:20181027T060720Z
URL:https://poonamusic.com/events/lamant-de-marguerite-duras/
SUMMARY:L'amant de Marguerite Duras
DESCRIPTION:L'amant de Marguerite Duras (A play with English subtitles)\n\n
 In association with Alliance Française de Pune\n\nThe Artistic Group\nTex
 t adaption: Maud Andrieux\nDirection and Interpretation: Maud Andrieux\nMu
 sic composition: Marco Gomes\nLiterary adviser: Sophie Dutheil\nLighting c
 oncept: Frederic Paquet\nPhotography: Sylvain Norget\n\nMarguerite Duras w
 as born on April 4\, 1914 in Gia Dinh\, a suburb of Saigon\, in colonial F
 rench Indochina. She lived there until the age of 18 and completed her bac
 calaureat (diploma) in philosophy at Lycée Chasseloup Laubat. Her parents
  were teachers\, employed by the Minister of Colonies. They had three chil
 dren: Pierre\, Paul and Marguerite. Her father\, who repatriated to France
 \, died when Marguerite was 7 years old. Her mother had bought a plot of l
 and granted by the colonial administration\, in the Mekong Delta. This unc
 ultivable land which would constantly flood had a deep influence on her. S
 he went on to write this story of heat and rainstorm\, of alcohol and bore
 dom\, of speech and silence\, and of the blazing desire.\n\nMaud Andrieux 
 graduated from Ateliers d'AixenProvence and from the National Conservatory
  of Bordeaux. She works with the famous directors\, Alain Simon\, Gilbert 
 Tiberghien among others.\n\nAfter her first trip to Vietnam in 2003\, she 
 grew passionate about Marguerite Duras’ works. From 2005 she adapted her
  novels for theater. She directs them and plays them alone on stage in Fra
 nce and abroad: The Sea Wall\, The Vice-consul\, Memoir of Pain (Vietnam\,
  Cambodia\, Morocco\, Turkey\, Nepal\, India) and she shares the life of a
 n atypical woman and the commitment of Duras\, with students from all over
  the world. In 2014\, she was appointed as the Program Director for Theate
 r Marguerite Duras TMD which hosts an exclusive programme Durassienne. Her
  approach to theatre emphasises on the text in an intimate relationship wi
 th the viewer.\n\n\n\n&nbsp\;
ATTACH;FMTTYPE=image/jpeg:https://poonamusic.com/pms_wp/wp-content/uploads
 /2018/09/MDuras1-1.jpg
CATEGORIES:Theatre
LOCATION:Mazda Hall\, Sardar Dastur Hoshang Boys High School\, Pune\, India
GEO:18.5198845;73.87824479999995
X-APPLE-STRUCTURED-LOCATION;VALUE=URI;X-ADDRESS=Sardar Dastur Hoshang Boys 
 High School\, Pune\, India;X-APPLE-RADIUS=100;X-TITLE=Mazda Hall:geo:18.51
 98845,73.87824479999995
END:VEVENT
END:VCALENDAR