BEGIN:VCALENDAR
VERSION:2.0
PRODID:-//wp-events-plugin.com//7.1.7//EN
BEGIN:VEVENT
UID:1442@poonamusic.com
DTSTART:20180117T133000Z
DTEND:20180117T133000Z
DTSTAMP:20180110T062416Z
URL:https://poonamusic.com/events/lara-saldanha-piano-2/
SUMMARY:Lara Saldanha\, piano
DESCRIPTION:In a programme of Bach : French Suite No. 2 in C minor\; Haydn 
 : Sonata in E Flat Major Hob. XVI/49\; Schumann : Sonata in G minor\; Mess
 iaen : Préludes\n\nIndian-American pianist Lara Saldanha received her Bac
 helor of Music in Piano Performance and Bachelor of Arts in Economics from
  Northwestern University\, studying with Alan Chow. She is currently pursu
 ing a Master of Music at The New School’s Mannes School of Music in New 
 York City\, studying with Vladimir Valjarević.&nbsp\;She has also studied
  with Serguei Milstein at the Geneva Conservatory of Music in Switzerland\
 , Inna Terekhov\, and Neya Korsantia.\n\nLara has been a prizewinner at th
 e Geneva Conservatory Liszt\, Mendelssohn\, and Schumann Competition\; Gen
 eva Conservatory Chopin Competition\; Ohio Music Teachers’ Association B
 uckeye Competition\; Clifton Piano Competition\, and DePauw University You
 ng Artist Competition\, among others. Lara’s performing career has taken
  her to 17 cities across seven countries. She played her debut in India in
  January 2017 at the National Center for the Performing Arts in Mumbai\, t
 he Kala Academy in Goa\, and Mazda Hall for the Pune Music Society. She ha
 s also performed in the Bohemian National Hall in New York\; the Bodmer Fo
 undation and Place Neuve in Geneva\, Switzerland\; and the Art Museum\,&nb
 sp\;Aronoff Center\, and Wyoming Fine Arts Center in Cincinnati\, Ohio. La
 ra is a passionate music educator\; she was awarded a Teaching Fellowship 
 at the New School in 2017\, and teaches a studio of 20 young students at K
 eys to Success NYC.\n\n
ATTACH;FMTTYPE=image/jpeg:https://poonamusic.com/pms_wp/wp-content/uploads
 /2017/12/IMG_210webcrop.jpg
CATEGORIES:Piano recitals
LOCATION:Mazda Hall\, Sardar Dastur Hoshang Boys High School\, Pune\, India
GEO:18.5198845;73.87824479999995
X-APPLE-STRUCTURED-LOCATION;VALUE=URI;X-ADDRESS=Sardar Dastur Hoshang Boys 
 High School\, Pune\, India;X-APPLE-RADIUS=100;X-TITLE=Mazda Hall:geo:18.51
 98845,73.87824479999995
END:VEVENT
END:VCALENDAR