BEGIN:VCALENDAR
VERSION:2.0
PRODID:-//wp-events-plugin.com//7.1.7//EN
BEGIN:VEVENT
UID:488@poonamusic.com
DTSTART:20020630T131500Z
DTEND:20020630T153000Z
DTSTAMP:20150302T203418Z
URL:https://poonamusic.com/events/lecture-on-the-evolution-of-music-by-arn
 aud-devic/
SUMMARY:Lecture on the Evolution of Music by Arnaud Devic
DESCRIPTION:Lecture on the Evolution of Music by Arnaud Devic 
CATEGORIES:Other activities
LOCATION:Mazda Hall\, Sardar Dastur Hoshang Boys High School\, Pune\, India
GEO:18.5198845;73.87824479999995
X-APPLE-STRUCTURED-LOCATION;VALUE=URI;X-ADDRESS=Sardar Dastur Hoshang Boys 
 High School\, Pune\, India;X-APPLE-RADIUS=100;X-TITLE=Mazda Hall:geo:18.51
 98845,73.87824479999995
END:VEVENT
END:VCALENDAR