BEGIN:VCALENDAR
VERSION:2.0
PRODID:-//wp-events-plugin.com//7.1.7//EN
BEGIN:VEVENT
UID:429@poonamusic.com
DTSTART:20010923T131500Z
DTEND:20010923T153000Z
DTSTAMP:20150302T203421Z
URL:https://poonamusic.com/events/leonard-bernstein-young-peoples-concert-
 a-birthday-tribute-to-shostakovich-brahms-violin-concerto-op-77/
SUMMARY:Leonard Bernstein” Young People’s Concert: A Birthday Tribute t
 o Shostakovich / Brahms: Violin Concerto Op. 77
DESCRIPTION:Leonard Bernstein” Young People’s Concert: A Birthday Tribu
 te to Shostakovich / Brahms: Violin Concerto Op. 77
CATEGORIES:Video screenings
LOCATION:Mazda Hall\, Sardar Dastur Hoshang Boys High School\, Pune\, India
GEO:18.5198845;73.87824479999995
X-APPLE-STRUCTURED-LOCATION;VALUE=URI;X-ADDRESS=Sardar Dastur Hoshang Boys 
 High School\, Pune\, India;X-APPLE-RADIUS=100;X-TITLE=Mazda Hall:geo:18.51
 98845,73.87824479999995
END:VEVENT
END:VCALENDAR