BEGIN:VCALENDAR
VERSION:2.0
PRODID:-//wp-events-plugin.com//7.1.7//EN
BEGIN:VEVENT
UID:335@poonamusic.com
DTSTART:20030608T131500Z
DTEND:20030608T153000Z
DTSTAMP:20150302T203421Z
URL:https://poonamusic.com/events/leonard-bernstein-young-peoples-concert-
 humour-in-music-mozart-sym-no-40-in-g-minor-kv-550-chamber-orchestra-of-eu
 rope-conductor-nikolaus-harncourt/
SUMMARY:Leonard Bernstein: Young People’s Concert: Humour in Music / Moza
 rt Sym. No. 40 in G minor KV 550 Chamber Orchestra of Europe\, conductor N
 ikolaus Harncourt
DESCRIPTION:Leonard Bernstein: Young People’s Concert: Humour in Music / 
 Mozart Sym. No. 40 in G minor KV 550 Chamber Orchestra of Europe\, conduct
 or Nikolaus Harncourt
CATEGORIES:Video screenings
LOCATION:Mazda Hall\, Sardar Dastur Hoshang Boys High School\, Pune\, India
GEO:18.5198845;73.87824479999995
X-APPLE-STRUCTURED-LOCATION;VALUE=URI;X-ADDRESS=Sardar Dastur Hoshang Boys 
 High School\, Pune\, India;X-APPLE-RADIUS=100;X-TITLE=Mazda Hall:geo:18.51
 98845,73.87824479999995
END:VEVENT
END:VCALENDAR