BEGIN:VCALENDAR
VERSION:2.0
PRODID:-//wp-events-plugin.com//7.1.7//EN
BEGIN:VEVENT
UID:336@poonamusic.com
DTSTART:20030622T131500Z
DTEND:20030622T153000Z
DTSTAMP:20150302T203421Z
URL:https://poonamusic.com/events/leonard-bernstein-young-peoples-concert-
 what-is-a-concerto-mozart-sym-no-41-in-c-major-kv-551-conductor-nikolaus-h
 arncourt/
SUMMARY:Leonard Bernstein: Young People’s Concert: What is a Concerto / M
 ozart Sym. No. 41 in C major KV 551\, conductor Nikolaus Harncourt
DESCRIPTION:Leonard Bernstein: Young People’s Concert: What is a Concerto
  / Mozart Sym. No. 41 in C major KV 551\, conductor Nikolaus Harncourt
CATEGORIES:Video screenings
LOCATION:Mazda Hall\, Sardar Dastur Hoshang Boys High School\, Pune\, India
GEO:18.5198845;73.87824479999995
X-APPLE-STRUCTURED-LOCATION;VALUE=URI;X-ADDRESS=Sardar Dastur Hoshang Boys 
 High School\, Pune\, India;X-APPLE-RADIUS=100;X-TITLE=Mazda Hall:geo:18.51
 98845,73.87824479999995
END:VEVENT
END:VCALENDAR