BEGIN:VCALENDAR
VERSION:2.0
PRODID:-//wp-events-plugin.com//7.1.7//EN
BEGIN:VEVENT
UID:1406@poonamusic.com
DTSTART:20170216T133000Z
DTEND:20170216T133000Z
DTSTAMP:20170828T113829Z
URL:https://poonamusic.com/events/les-songes-voyageurs/
SUMMARY:Les Songes Voyageurs
DESCRIPTION:Thierry Gregoire\, countertenor\nÉtienne Galletier\, theorbo\n
 Nolwenn Le Guern\, viola da gamba\n\nIn a programme of songs by Henry Purc
 ell and music by Christopher Simpson and Robert de Visée\n\nIn associatio
 n with Alliance Française de Pune\n\nCountertenor Thierry Gregoire\, a st
 udent of James Bowman\, Paul Esswood and Henri Ledroi\, has won awards fro
 m the Yehudi Menuhin Foundation and the Vellutti International Singing Com
 petition (Italy). A promising voice with a rare and much sought-after tess
 itura\, he made a name for himself in over 350 performances of Le Bourgeoi
 s Gentilhomme by Moliere and Lully at La Comedie Francaise. He quickly cam
 e to the attention of prominent conductors such as Marc Minowski\, Jean Cl
 aude Malgoire\, Christophe Rousee and Jonathan Darlington.\n\nThierry Greg
 oire is interested in contemporary music\, too\, and has been invited by m
 ost prestigious festivals worldwide.\n\nNolwenn Le Guern studied cello and
  later viola da gamba and ancient music in the class of Marianne Muller at
  Conservatoire National Supérieur Musique et Danse in Lyon. In 2011 she o
 btained her master’s degree with distinction specializing in the viol mu
 sic of Alfonso Ferrabosco. She has performed in Purcell’s Don Quixote an
 d has appeared with many Baroque ensembles.\n\nÉtienne Galletier studied 
 theorbo in Pais\, Lyon\, Barcelona and Strasbourg. He regularly performs w
 ith many ensembles\, theorbo\, vihuela and baroque guitar. He has perfrome
 d in Handel’s Julius Caesar and Monteverdi’s Orfeo and has many record
 ings to his credit.\n\n\n\n
ATTACH;FMTTYPE=image/jpeg:https://poonamusic.com/pms_wp/wp-content/uploads
 /2017/01/IMG_1386-websitecrop.jpg
CATEGORIES:Vocal Recitals
LOCATION:Mazda Hall\, Sardar Dastur Hoshang Boys High School\, Pune\, India
GEO:18.5198845;73.87824479999995
X-APPLE-STRUCTURED-LOCATION;VALUE=URI;X-ADDRESS=Sardar Dastur Hoshang Boys 
 High School\, Pune\, India;X-APPLE-RADIUS=100;X-TITLE=Mazda Hall:geo:18.51
 98845,73.87824479999995
END:VEVENT
END:VCALENDAR