BEGIN:VCALENDAR
VERSION:2.0
PRODID:-//wp-events-plugin.com//7.1.7//EN
BEGIN:VEVENT
UID:1535@poonamusic.com
DTSTART:20210117T180000Z
DTEND:20210117T180000Z
DTSTAMP:20210128T134342Z
URL:https://poonamusic.com/events/lorchestre-de-chambre-de-france-online-c
 oncert/
SUMMARY:L’Orchestre de Chambre de France online concert
DESCRIPTION:L’Orchestre de Chambre de France\n\nIn association with Goeth
 e Institute\, Max Mueller Bhavan\, Pune and Alliance Française de Pune\n\
 nProgramme: Tchaikovsky: Serenade Op. 48\n\n[caption id="attachment_13381"
  align="alignleft" width="300"] L'Orchestre de Chambre de France. Photo pa
 r Thomas Baltes.[/caption]\n\nL'Orchestre de Chambre de France was born in
  2018\, under the umbrella of the project Artie's existing for a decade in
  a multitude of forms. Artie's has been vigorously developed in France and
  abroad\, so they naturally had the desire to extend the Artie's spirit as
  part of a larger project. And what better way than to create a musical jo
 urney representing a country so dear to their hearts – France! Our frien
 d Gauthier Herrmann has very kindly shared this film for us to enjoy.\n\nT
 his film will be available for a few weeks.\n\n\n\n
ATTACH;FMTTYPE=image/jpeg:https://poonamusic.com/pms_wp/wp-content/uploads
 /2021/01/OCFCThomasBaltes-cropBD-3.jpg
CATEGORIES:Online Concert
LOCATION:https://poonamusic.com/streams/
END:VEVENT
END:VCALENDAR