BEGIN:VCALENDAR
VERSION:2.0
PRODID:-//wp-events-plugin.com//7.1.7//EN
BEGIN:VEVENT
UID:413@poonamusic.com
DTSTART:19990926T131500Z
DTEND:19990926T153000Z
DTSTAMP:20150302T203420Z
URL:https://poonamusic.com/events/mahler-kindertotenlieder-brahms-symphony
 -no-4-london-phil-orch/
SUMMARY:Mahler: Kindertotenlieder / Brahms: Symphony No. 4\, London Phil. O
 rch.
DESCRIPTION:Mahler: Kindertotenlieder / Brahms: Symphony No. 4\, London Phi
 l. Orch.
CATEGORIES:Video screenings
LOCATION:Concert Hall\, St. Vincent's \, Pune\, Maharashtra\, 411001\, Indi
 a
GEO:18.5127407;73.87542639999992
X-APPLE-STRUCTURED-LOCATION;VALUE=URI;X-ADDRESS=St. Vincent's \, Pune\, Mah
 arashtra\, 411001\, India;X-APPLE-RADIUS=100;X-TITLE=Concert Hall:geo:18.5
 127407,73.87542639999992
END:VEVENT
END:VCALENDAR