BEGIN:VCALENDAR
VERSION:2.0
PRODID:-//wp-events-plugin.com//7.1.7//EN
BEGIN:VEVENT
UID:1394@poonamusic.com
DTSTART:20161209T133000Z
DTEND:20161209T133000Z
DTSTAMP:20161202T032929Z
URL:https://poonamusic.com/events/marcello-nardis-tenor-roberto-prosseda-p
 iano/
SUMMARY:Marcello Nardis\, tenor and Roberto Prosseda\, piano
DESCRIPTION:In an evening of song featuring music by Buzzi-Pecca\, Mascagni
 \, Leoncavallo\, Donaudy and Francesco Paolo Tosti\n\nSupported by Italian
  Embassy Cultural Centre – New Delhi and Mumbai Sections\n\n\n\nBeing al
 ready recognized as an established pianist\, Marcello Nardis made his debu
 t as a tenor in 2003\, singing for Pope John Paul II on the occasion of th
 e World Youth Day (Canada). Since then he has collaborated with internatio
 nally renowned artists such as Chung\, Inbal\, Luisi\, Mehta\, Muti\, Peš
 ek\, Rousset\, Savall\, Steinberg\, Zagrosek\, Badura-Skoda\, Campanella\,
  Canino\, Ciccolini\, etc. and has sung at Teatro alla Scala in Milan\, Ac
 cademia Nazionale di Santa Cecilia in Rome\, Teatro La Fenice in Venice\, 
 Teatro di San Carlo in Naples\, Teatro Carlo Felice in Genoa\, Teatro Mass
 imo in Palermo\, Maggio Musicale Fiorentino\, Accademia Chigiana in Siena\
 , Teatre del Liceu in Barcelona and Salzburg and Ravenna Festival\, amongs
 t others.\n\nRoberto Prosseda is one of the most important Italian pianist
 s of his generation. His dedication to the piano music of Felix Mendelssoh
 n\, including recording the Piano Concerto No. 3 with the Gewandhaus Orche
 stra and Riccardo Chailly\, have won much acclaim in the press. In 2014 Pr
 osseda completed his 10-year project of recording all Mendelssohn's piano 
 works for Decca on 9 CDs. In 2010\, Deutsche Grammophon selected twelve re
 cordings by Prosseda to add to the box set\, "Classic Gold". Roberto Pross
 eda has performed regularly with some of the world's most important orches
 tras and conductors. He has now embarked on a project to record all the Mo
 zart piano sonatas and also to revive the pedal piano which was popular in
  the time of Gounod\, Liszt and Alkan.\n\n
ATTACH;FMTTYPE=image/jpeg:https://poonamusic.com/pms_wp/wp-content/uploads
 /2016/10/marcello_nardis1.jpg
CATEGORIES:Vocal Recitals
LOCATION:Mazda Hall\, Sardar Dastur Hoshang Boys High School\, Pune\, India
GEO:18.5198845;73.87824479999995
X-APPLE-STRUCTURED-LOCATION;VALUE=URI;X-ADDRESS=Sardar Dastur Hoshang Boys 
 High School\, Pune\, India;X-APPLE-RADIUS=100;X-TITLE=Mazda Hall:geo:18.51
 98845,73.87824479999995
END:VEVENT
END:VCALENDAR