BEGIN:VCALENDAR
VERSION:2.0
PRODID:-//wp-events-plugin.com//7.1.7//EN
BEGIN:VEVENT
UID:162@poonamusic.com
DTSTART:20100112T131500Z
DTEND:20100112T153000Z
DTSTAMP:20150302T203427Z
URL:https://poonamusic.com/events/marion-baglan-soprano-coloratura-francoi
 s-marie-juskowiak-piano/
SUMMARY:Marion Baglan\, soprano coloratura / François-Marie Juskowiak\, p
 iano
DESCRIPTION:Marion Baglan\, soprano coloratura / François-Marie Juskowiak
 \, piano in association with the Alliance Française de Pune
CATEGORIES:Vocal Recitals
LOCATION:Mazda Hall\, Sardar Dastur Hoshang Boys High School\, Pune\, India
GEO:18.5198845;73.87824479999995
X-APPLE-STRUCTURED-LOCATION;VALUE=URI;X-ADDRESS=Sardar Dastur Hoshang Boys 
 High School\, Pune\, India;X-APPLE-RADIUS=100;X-TITLE=Mazda Hall:geo:18.51
 98845,73.87824479999995
END:VEVENT
END:VCALENDAR