BEGIN:VCALENDAR
VERSION:2.0
PRODID:-//wp-events-plugin.com//7.1.7//EN
BEGIN:VEVENT
UID:1492@poonamusic.com
DTSTART:20190331T130000Z
DTEND:20190331T130000Z
DTSTAMP:20190219T093854Z
URL:https://poonamusic.com/events/mark-glover-euphonium-and-nadine-crasto-
 piano/
SUMMARY:Mark Glover\, euphonium and Nadine Crasto\, piano
DESCRIPTION:In a programme of Bellstedt: Napoli \; Faure arr. Wesley Kendri
 ck: Pavane\; Haydn arr. Patrick Hoffman: Gypsy Rondo\; Puccini: Nessun Dor
 ma\; Rossini arr. Robert Childs: Largo Al Factotum\; Fernando Deddos: Frev
 o do Besouro\; Tamara Sirius (World Premier!): Experience\; Assad Hamzy: S
 cherzo for Euphonium and Piano\; Alex Thio:&nbsp\;Lullaby for Lucy and Hug
 o Schmid:&nbsp\;The Devils Tongue\n\nMark Glover is a performing artist fo
 r Sterling Musical Instruments\, UK. He resides in Dubai with his wife and
  daughter\, working as Head of Music in a prestigious international school
 . Prior to this\, Mark worked in Singapore\, where he was the Principal St
 udy Lecturer of Euphonium at The Nanyang Academy of Fine Arts and a freela
 nce brass teacher and euphonium soloist. Mark has given premier performanc
 es\, recitals and master classes around the world. He has performed in the
  UAE\, Brazil\, USA\, Europe\, Hong Kong\, Singapore\, Thailand\, Malaysia
 \, Indonesia\, Brunei\, Taiwan and Australia. He performed to many audienc
 es in South East Asia who had never heard the euphonium before and was ins
 trumental in setting up The Lion City Brass Band in Singapore. He was a fi
 nalist in the 2012 International Tuba and Euphonium Conference in Austria 
 and a guest artist during the 2016 conference in Knoxville\, Tennessee.\n\
 nHe has performed on both tenor tuba and bass trumpet with The Orchestra o
 f the Music Makers in Singapore. In the UK\, Mark had vast success working
  with special needs children as a classroom music teacher and Head of Musi
 c. He was a member of The Virtuosi GUS Brass Band and had particular succe
 ss as the principal euphonium of The Staffordshire Band during the bands m
 ost prolific period where Mark was awarded best soloist prizes in many con
 tests. Mark completed his BMus (Hons) degree at The Royal Welsh College of
  Music and Drama where he studied with Chris Mowat\, Richard Adams\, Andre
 w Fawbert and Robert Childs. During his degree\, Mark completed an ATCL re
 cital diploma and was fortunate to play with The Tongwynlais Band\, Tredeg
 ar Town Band and The Cory Band. In April 2018 Mark released his debut solo
  CD\, which is called 'HUSTLE'. The recording contains Zaidi Sabtu-Ramli's
  "Euphoria!" Euphonium Concerto plus many other works which Mark commissio
 ned. Mark's website can be found at www.markglovermusic.co.uk\n\nNadine Cr
 asto began learning the piano at the age of 9 under the tutelage of Myrna 
 Fernandes. She graduated with a Master of Arts Degree in Piano Performance
  at the Royal Academy of Music\, London\, studying under Colin Stone. She 
 studied harpsichord with Carole Cerasi and performed anachronistic chamber
  works on various historical instruments during her studies in London. Nad
 ine was awarded the Nancy Dickinson Award and the Greta Parkinson Award fo
 r good work\, conduct and general achievement at the Royal Academy. She co
 mpleted the LTCL Examination in 2009 at the age of 17 and received two awa
 rds for the ATCL Examination the previous year\, having achieved the highe
 st marks in Mumbai.\n\nShe has participated twice in the All-India Music Q
 uest Competition achieving gold seals and winning first place in the Jazz 
 and Popular Music section in 2011\, as well as in the All-India Con Brio F
 estival\, at which she was a semi-finalist in the year 2010. She gave a pi
 ano recital at the NCPA Stopgaps Young Talent which received much acclaim\
 , and has been performing at solo and chamber music concerts in London\, M
 umbai\, Goa\, Kolkata\, Mysore\, Bangalore\, Ahmedabad\, Delhi and Pune. S
 he has performed at several master classes and piano workshops conducted b
 y Kathryn Stott\,TatianaSarkissova\, Colin Stone\, Mark Troop\, Paul Stewa
 rt\, Christopher Norton\, Peter Mack\, Scott MacBride Smith\, Nelita True\
 , Fareed Curmally\, Stephen Kovacevich\, Marialena Fernandes and many othe
 rs.&nbsp\;&nbsp\;&nbsp\;&nbsp\;&nbsp\;&nbsp\;&nbsp\;&nbsp\;&nbsp\;&nbsp\;&
 nbsp\;&nbsp\;&nbsp\;&nbsp\;&nbsp\;&nbsp\;&nbsp\;&nbsp\;&nbsp\;&nbsp\;&nbsp
 \;\n\nNadine has trained\, conducted and composed vocal arrangements for c
 hoirs\, preparing them for competitions and performances since the age of 
 16. She was a part of the Discover Music Programme of the Mehli Mehta Musi
 c Foundation and taught music in various schools. She also gives private p
 iano lessons and prepares students for music exams\, competitions and perf
 ormances. A number of her students have achieved distinctions and won priz
 es.
ATTACH;FMTTYPE=image/jpeg:https://poonamusic.com/pms_wp/wp-content/uploads
 /2019/02/Glover-640768339-1.jpg
CATEGORIES:Euphonium
LOCATION:Mazda Hall\, Sardar Dastur Hoshang Boys High School\, Pune\, India
GEO:18.5198845;73.87824479999995
X-APPLE-STRUCTURED-LOCATION;VALUE=URI;X-ADDRESS=Sardar Dastur Hoshang Boys 
 High School\, Pune\, India;X-APPLE-RADIUS=100;X-TITLE=Mazda Hall:geo:18.51
 98845,73.87824479999995
END:VEVENT
END:VCALENDAR