BEGIN:VCALENDAR
VERSION:2.0
PRODID:-//wp-events-plugin.com//7.1.7//EN
BEGIN:VEVENT
UID:1551@poonamusic.com
DTSTART:20210822T180000Z
DTEND:20210822T180000Z
DTSTAMP:20210903T092259Z
URL:https://poonamusic.com/events/marouan-benabdallah-online-concert-2/
SUMMARY:Marouan Benabdallah online concert
DESCRIPTION:Marouan Benabdallah\, piano\n\nIn a programme of pieces from Th
 e Book of Sounds by Hans Otte\n\nHans Otte was recognised as a piano and o
 rgan prodigy in Germany. After the Second World War\, he got a grant from 
 the United States to study organ with Fernando Germani and composition wit
 h Paul Hindemith at Yale University. Later he returned to Germany and went
  on to study piano between 1954 and 1956 with Walter Gieseking. In 1959\, 
 Otte was offered a job as department head of classical music by Radio Brem
 en and soon founded two festivals which proved of historical importance: P
 ro musica antiqua\, dedicated to Early Music\, and Pro musica nova\, dedic
 ated with New Music. Book of Sounds is a series of 10 pieces for solo pian
 o\, minimalistic\, but with traditional tonality in serialist textures.\n\
 nMarouan Benabdallah hardly needs any introduction to Pune audiences. Trai
 ned in Hungary in the Hungarian tradition\, he has appeared as pianist on 
 stages in America\, Europe and Asia.\n\nThis film will be available for a 
 few weeks.\n\n
ATTACH;FMTTYPE=image/jpeg:https://poonamusic.com/pms_wp/wp-content/uploads
 /2016/07/Marouan11.jpg
CATEGORIES:Online Concert
LOCATION:https://poonamusic.com/streams/
END:VEVENT
END:VCALENDAR