BEGIN:VCALENDAR
VERSION:2.0
PRODID:-//wp-events-plugin.com//7.1.7//EN
BEGIN:VEVENT
UID:1548@poonamusic.com
DTSTART:20210725T180000Z
DTEND:20210725T180000Z
DTSTAMP:20210722T120656Z
URL:https://poonamusic.com/events/marouan-benabdallah-online-concert/
SUMMARY:Marouan Benabdallah online concert
DESCRIPTION:Marouan Benabdallah\nARABESQUE\n\nIn a programme of piano music
  by Composers from the Middle East and North Africa\n\nMarouan Benabdallah
  is one of the foremost representatives of his native Morocco on the inter
 national stage. Trained in Hungary at the Liszt Academy\, he has the disti
 nction of being an exponent of the Hungarian school of piano playing\, spe
 cialising not only in the music of Liszt\, Bartók and Kodaly\, but also o
 f Rachmaninoff\, Debussy and many other composers. For years he has been d
 eveloping repertoire that goes beyond the canonic works of the literature 
 he has performed to great acclaim\, to include music from the Middle East 
 and North Africa. During this Arabesque concert\, Marouan will perform som
 e of the remarkable finds from his explorations\, with music by composers 
 from Syria\, Algeria\, Lebanon\, United Arab Emirates\, Egypt and Morocco.
 \n\nThis film will be available for a few weeks.\n\n\n\nPlease follow the 
 link: http://poonamusic.com/streams/
ATTACH;FMTTYPE=image/jpeg:https://poonamusic.com/pms_wp/wp-content/uploads
 /2020/01/IMG_786mar6.jpg
CATEGORIES:Online Concert
LOCATION:https://poonamusic.com/streams/
END:VEVENT
END:VCALENDAR