BEGIN:VCALENDAR
VERSION:2.0
PRODID:-//wp-events-plugin.com//7.1.7//EN
BEGIN:VEVENT
UID:1436@poonamusic.com
DTSTART:20171112T130000Z
DTEND:20171112T130000Z
DTSTAMP:20171112T074123Z
URL:https://poonamusic.com/events/marouan-benabdallah-piano-2/
SUMMARY:Marouan Benabdallah\, piano
DESCRIPTION:In a programme of Otte: The Book of Sounds\, No. 1\, No. 2\, No
 . 9 and 10\; Kurtág: Pieces from Játékok (Games)\; Bach/Busoni: Ich ruf
 ' zu dir\, Herr Jesu Christ\, BWV 639\; Bach/Benabdallah: Gottes Zeit ist 
 die allerbeste Zeit BWV 106\; Bach: Aria BWV 988\; Kodály: Székely Lamen
 t\, Méditation sur un thème de Debussy\, Liszt: La Vallée d'Obermann an
 d Liszt/Volodos: Hungarian Rhapsody No. 13\n\nWith a musical heritage deep
 ly rooted in the Hungarian tradition\, Marouan Benabdallah received his fo
 rmal training at the Bela Bartok Conservatory and the Franz Liszt Academy 
 in Budapest\, and in 2008\, was presented with the Medal of the Hungarian 
 Parliament for his achievement in music - an honour he shares with such ar
 tists as Placido Domingo\, José Cura and others. After being awarded the 
 First Prize at nearly every major competition in his native Morocco by age
  13\, Mr. Benabdallah first attracted international attention in 2003\, fo
 llowing his triumphs at the Hungarian Radio Piano Competition\, the Andorr
 a Grand Prize\, and shortly after\, the Naples International Piano Competi
 tion and many other competitions.\n\nFREE ADMITTANCE\n\n\n\n
ATTACH;FMTTYPE=image/jpeg:https://poonamusic.com/pms_wp/wp-content/uploads
 /2017/09/Marouancrop1.jpg
CATEGORIES:Piano recitals
LOCATION:Mazda Hall\, Sardar Dastur Hoshang Boys High School\, Pune\, India
GEO:18.5198845;73.87824479999995
X-APPLE-STRUCTURED-LOCATION;VALUE=URI;X-ADDRESS=Sardar Dastur Hoshang Boys 
 High School\, Pune\, India;X-APPLE-RADIUS=100;X-TITLE=Mazda Hall:geo:18.51
 98845,73.87824479999995
END:VEVENT
END:VCALENDAR