BEGIN:VCALENDAR
VERSION:2.0
PRODID:-//wp-events-plugin.com//7.1.7//EN
BEGIN:VEVENT
UID:1560@poonamusic.com
DTSTART:20220116T180000Z
DTEND:20220116T180000Z
DTSTAMP:20250707T040929Z
URL:https://poonamusic.com/events/marouan-benabdallah-piano-online-concert
 /
SUMMARY:Marouan Benabdallah\, piano - online concert
DESCRIPTION:Imaginary Journey\nMarouan Benabdallah\, piano\n\nIn a programm
 e of Debussy: Estampes (Pagodes\, La soirée dans Grenade\, Jardins sous l
 a pluie)\n\nEstampes literally means engraving. These 3 pieces by Debussy 
 composed in 1903 are prime examples of impressionism in music.\n\nJust lik
 e the French painters created impressionistic works visually\, Debussy cre
 ated these impressions with sounds.\n\nMarouan Benabdallah talks a bit bef
 ore the recital\, explaining the history of each piece in the set.\n\nThis
  film will be available for a few weeks.\n\n&nbsp\;\n\n
ATTACH;FMTTYPE=image/jpeg:https://poonamusic.com/pms_wp/wp-content/uploads
 /2021/09/Marouan-B.jpg
CATEGORIES:Online Concert
LOCATION:https://poonamusic.com/streams/
END:VEVENT
END:VCALENDAR