BEGIN:VCALENDAR
VERSION:2.0
PRODID:-//wp-events-plugin.com//7.1.7//EN
BEGIN:VEVENT
UID:1545@poonamusic.com
DTSTART:20210613T180000Z
DTEND:20210613T180000Z
DTSTAMP:20210618T065208Z
URL:https://poonamusic.com/events/masterworks-of-italian-baroque-music-onl
 ine-concert/
SUMMARY:Masterworks of Italian Baroque Music online concert
DESCRIPTION:Federico Guglielmo\, violin\nRoberto Loreggian\, harpsichord\n\
 nIn association with Italian Embassy Cultural Centre\, Mumbai\n\nIn a prog
 ramme of Nicola Matteis: Passaggio rotto e Andamento veloce for solo violi
 n (from “Ayres for the Violini”\, London\, 1676)\; Giuseppe Tartini: S
 onata in G minor minor for violin and basso Op. 1 No. 10 (B.g10) “Didone
  abbandonata”\; Antonio Vivaldi / Johann Sebastian Bach: Concerto in F m
 ajor for solo harpsichord BWV978 (transcription from the original for viol
 in\, strings and continuo Op. 3 No. 3) and Antonio Vivaldi: Sonata IV in D
  major for violin and continuo RV755 (from Sonatas for Cardinale Pietro Ot
 toboni\, msc. Manchester)\n\nThe final installment of Io Suono Italiano\, 
 a series of six recorded concerts\, specially curated for The Poona Music 
 Society\, will have a selection of music of the most important Italian Bar
 oque composers. Vivaldi and Tartini are household names. Less so Nicola Ma
 tteis\, whose piece for solo violin will make a great introduction to this
  recital.\n\n Federico Guglielmo is undoubtedly one of the leading Italian
  violin virtuosos practising baroque and modern traditions. Winner of the 
 Antonio Vivaldi International Recording Prize\, the Boston Globe describes
  him as “the new star of the ancient music landscape” while the French
  music magazine Diapason\, which awarded him the Diapason d’Or for his r
 ecording of Vivaldi concertos\, praised his “sparkling virtuosity which 
 provides a cross section of everything of which the violin is capable”. 
 He obtained his diploma from the Marcello Conservatory in Venice and then 
 attended violin masterclasses with Salvatore Accardo\, Vladimir Spivakov a
 nd Isaac Stern. As both a baroque /classical /modern violin soloist and as
  a conductor he is regularly invited to perform by major ensembles worldwi
 de. As a baroque violinist /conductor he led the renowned Academy of Ancie
 nt Music on tour in England and was subsequently invited by groups such as
  The Handel &amp\; Haydn Society of Boston\, the Tokyo Vivaldi Ensemble an
 d the Australian Brandenburg Orchestra. He has also led and played as solo
 ist with Maggio Musicale Fiorentino\, Orchestra del Teatro Massimo\, Paler
 mo\, Accademia Nazionale di S.Cecilia\, Rome\, New Japan Philharmonic\, Os
 aka Symphony Orchestra\, Orquestra Filarmonica de Gran Canaria and many mo
 re.\n\nRoberto Loreggian perfected his talents at the Conservatory of The 
 Hague (NL) under the direction of Ton Koopman. His expertise on the harpsi
 chord led him to perform with the most important festivals and ensembles l
 ike Orchestra dell'Accademia di Santa Cecilia\, Chamber Orchestra of Manto
 va\, the Orchestra di Padova  e del Veneto\, I Virtuosi Italiani\, L'Arte
  Dell'Arco\, I Barocchisti and others. He has recorded numerous CDs for re
 cord labels such as Chandos\, Tactus\, Arts and others which have been int
 ernationally acclaimed. He has recorded the complete collection of keyboar
 d music by G. Frescobaldi\, for Brilliant Classics\, the complete keyboard
  music of A. Gabrieli\, the complete Harpsichord concertos of B. Galuppi a
 nd the harpsichord music of G. F. Handel. His recordings devoted to harpsi
 chord music by B. Pasquini (Chandos Chaconne) and by G. B. Ferrini (Tactus
 ) received the award 'Preis der Deutschen Schallplattenkritik'. He teaches
  at the Conservatory 'C. Pollini' in Padova\, Italy.\n\nThis film will be 
 available for a few weeks.\n\n\n\n
ATTACH;FMTTYPE=image/jpeg:https://poonamusic.com/pms_wp/wp-content/uploads
 /2021/05/Photo-Guglielmo11.jpg
CATEGORIES:Online Concert
LOCATION:https://poonamusic.com/streams/
END:VEVENT
END:VCALENDAR