BEGIN:VCALENDAR
VERSION:2.0
PRODID:-//wp-events-plugin.com//7.1.7//EN
BEGIN:VEVENT
UID:160@poonamusic.com
DTSTART:20091031T131500Z
DTEND:20091031T153000Z
DTSTAMP:20150302T203427Z
URL:https://poonamusic.com/events/mats-carlsson-tenor-ulrika-tenstam-mezzo
 -soprano/
SUMMARY:Mats Carlsson\, tenor / Ulrika Tenstam\, mezzo soprano
DESCRIPTION:Mats Carlsson\, tenor / Ulrika Tenstam\, mezzo soprano in asso
 ciation with the Embassy of Sweden in New Delhi
CATEGORIES:Vocal Recitals
LOCATION:Mazda Hall\, Sardar Dastur Hoshang Boys High School\, Pune\, India
GEO:18.5198845;73.87824479999995
X-APPLE-STRUCTURED-LOCATION;VALUE=URI;X-ADDRESS=Sardar Dastur Hoshang Boys 
 High School\, Pune\, India;X-APPLE-RADIUS=100;X-TITLE=Mazda Hall:geo:18.51
 98845,73.87824479999995
END:VEVENT
END:VCALENDAR