BEGIN:VCALENDAR
VERSION:2.0
PRODID:-//wp-events-plugin.com//7.1.7//EN
BEGIN:VEVENT
UID:1540@poonamusic.com
DTSTART:20210321T180000Z
DTEND:20210321T180000Z
DTSTAMP:20210317T084813Z
URL:https://poonamusic.com/events/maurizio-baglini-piano-online-concert/
SUMMARY:Maurizio Baglini\, piano online concert
DESCRIPTION:Maurizio Baglini\, piano\n\nIn association with Italian Embassy
  Cultural Centre\, Mumbai\n\nProgramme: Pietro Domenico Paradisi: Sonata V
 I in A major\, Paganini/Liszt: Grand Etudes No. 4 Pizzicato\, No. 5 the Hu
 nt\, No. 3 la Campanella\, Azio Corghi: Elite chansons for piano\, Paolo F
 azioli: Laendler in D major and Francesco Filidei: Berceuse (2018)\n\nMaur
 izio Baglini is a leading Italian pianist who has won numerous prizes in c
 ompetitions and has appeared with many orchestras and in chamber music. Hi
 s wide discography on Decca includes the complete Bach-Busoni transcriptio
 ns\, solo piano works of Chopin\, Schumann\, Mussorgsky and Liszt\, cello 
 sonatas of Brahms and Rachmaninoff and concertos of Bach and Haydn.\n\nThi
 s is the first in a series of 6 concerts specially commissioned by the Ita
 lian Embassy Cultural Centre\, Mumbai Section in association with The Poon
 a Music Society to present online concerts for Indian audiences.\n\nThe re
 cordings were made at Teatro Sociale in Rovigo and present a wide range of
  Italian music by Italian musicians.\n\nThis film will be available for a 
 few weeks.\n\n
ATTACH;FMTTYPE=image/jpeg:https://poonamusic.com/pms_wp/wp-content/uploads
 /2021/03/Maurizio2.jpg
CATEGORIES:Online Concert
LOCATION:https://poonamusic.com/streams/
END:VEVENT
END:VCALENDAR