BEGIN:VCALENDAR
VERSION:2.0
PRODID:-//wp-events-plugin.com//7.1.7//EN
BEGIN:VEVENT
UID:957@poonamusic.com
DTSTART:20050214T131500Z
DTEND:20050214T153000Z
DTSTAMP:20150302T203409Z
URL:https://poonamusic.com/events/meeta-pandit-hindustani-classical-vocal-
 allie-delfaut-jazz-piano-in-association-with-the-alliance-francaise-de-poo
 na/
SUMMARY:Meeta Pandit\, hindustani classical vocal / Allie Delfaut\, jazz pi
 ano in association with the Alliance Française de Poona
DESCRIPTION:Meeta Pandit\, hindustani classical vocal / Allie Delfaut\, jaz
 z piano in association with the Alliance Française de Poona
CATEGORIES:Indian music and dance
LOCATION:Mazda Hall\, Sardar Dastur Hoshang Boys High School\, Pune\, India
GEO:18.5198845;73.87824479999995
X-APPLE-STRUCTURED-LOCATION;VALUE=URI;X-ADDRESS=Sardar Dastur Hoshang Boys 
 High School\, Pune\, India;X-APPLE-RADIUS=100;X-TITLE=Mazda Hall:geo:18.51
 98845,73.87824479999995
END:VEVENT
END:VCALENDAR