BEGIN:VCALENDAR
VERSION:2.0
PRODID:-//wp-events-plugin.com//7.1.7//EN
BEGIN:VEVENT
UID:1494@poonamusic.com
DTSTART:20190504T133000Z
DTEND:20190504T133000Z
DTSTAMP:20190427T083743Z
URL:https://poonamusic.com/events/michal-krupa-piano/
SUMMARY:Michał Krupa\, piano
DESCRIPTION:In a programme of Maurice Ravel: Gaspard de la nuit\; Frédéri
 c Chopin - Berceuse in D flat major Op. 57\, Nocturne in B major Op. 9 No.
  3\, Etude in C major Op. 10 No. 1\, Mazurka in C sharp minor Op. 50 No. 3
 \, Polonaise in A flat major Op. 53' and Franz Liszt: Transcendental Etude
  No. 4 'Mazeppa'\, Transcendental Etude No. 8 'Wilde Jagd'\, Hungarian Rha
 psody No. 9\, Hungarian Rhapsody No. 10\n\nMichał Krupa began his piano s
 tudies at the age of 6. He graduated from Zespół Państwowych Szkół Mu
 zycznych im. Grażyny Bacewicz in Koszalin\, Poland. He took part in vario
 us international piano masterclasses and competitions\, both in Poland and
  abroad\, in which he worked among others with Wojciech Świtała\, Andrze
 j Jasiński\, Anna Malikova and Fumiko Eguchi.\n\nSince 2015\, Michał Kru
 pa has been studying under Professor Piotr Sałajczyk at the Academy of Mu
 sic of Karol Szymanowski in Katowice and since 2018 also under Professor P
 iotr Banasik. He often gives recitals and&nbsp\; performs at various event
 s\, concerts and festivals in Poland\, Italy and Germany as a soloist\, an
  accompanist and a chamber musician. He performed with Koszalin Philharmon
 ic Orchestra thrice\, in 2004 (Fantazja dziecięca - W. Wojtan)\, in 2015 
 (Franz Liszt – Piano concerto No. 1 in E flat major) and in 2018 (F. Cho
 pin – Piano concerto No. 1 in E minor op. 11). He was a laureate of Mayo
 r of Koszalin Prize twice.\n\n&nbsp\;\n\n&nbsp\;\n\n\n\n&nbsp\;
ATTACH;FMTTYPE=image/jpeg:https://poonamusic.com/pms_wp/wp-content/uploads
 /2019/04/1550495296068_DSC_0102-edit-to-11square.jpg
CATEGORIES:Piano recitals
LOCATION:Mazda Hall\, Sardar Dastur Hoshang Boys High School\, Pune\, India
GEO:18.5198845;73.87824479999995
X-APPLE-STRUCTURED-LOCATION;VALUE=URI;X-ADDRESS=Sardar Dastur Hoshang Boys 
 High School\, Pune\, India;X-APPLE-RADIUS=100;X-TITLE=Mazda Hall:geo:18.51
 98845,73.87824479999995
END:VEVENT
END:VCALENDAR