BEGIN:VCALENDAR
VERSION:2.0
PRODID:-//wp-events-plugin.com//7.1.7//EN
BEGIN:VEVENT
UID:693@poonamusic.com
DTSTART:20011104T131500Z
DTEND:20011104T153000Z
DTSTAMP:20150302T203414Z
URL:https://poonamusic.com/events/monique-copper/
SUMMARY:Monique Copper
DESCRIPTION:Monique Copper in association with the Royal Netherlands Embass
 y\, New Delhi and the Gaudeamus Foundation\, Amsterdam 
CATEGORIES:Piano recitals
LOCATION:Mazda Hall\, Sardar Dastur Hoshang Boys High School\, Pune\, India
GEO:18.5198845;73.87824479999995
X-APPLE-STRUCTURED-LOCATION;VALUE=URI;X-ADDRESS=Sardar Dastur Hoshang Boys 
 High School\, Pune\, India;X-APPLE-RADIUS=100;X-TITLE=Mazda Hall:geo:18.51
 98845,73.87824479999995
END:VEVENT
END:VCALENDAR