BEGIN:VCALENDAR
VERSION:2.0
PRODID:-//wp-events-plugin.com//7.1.7//EN
BEGIN:VEVENT
UID:1372@poonamusic.com
DTSTART:20160320T130000Z
DTEND:20160320T130000Z
DTSTAMP:20160405T045837Z
URL:https://poonamusic.com/events/nadine-crasto-piano-and-oscar-castellino
 -voice/
SUMMARY:Nadine Crasto\, piano and Oscar Castellino\, voice
DESCRIPTION:OPERAWALA TOSTI TOUR OF INDIA\n\nNadine Crasto\, piano and Osca
 r Castellino\, voice\n\n\n\nIn a programme of arias by Francesco Paolo Tos
 ti\n\nIn a programme of Songs of Fascination: Ave Maria\, Malia\, My Memor
 ies\; Songs of a Sweet demise: Vorrie Morire\, Pour un Baiser\, Love me!\;
  Songs about an Enchanting Face: Il Pescatore Canta\, A Vucchella\, Marich
 iare\; Songs of Dreaming and Waking: Preghiera\, Ideale\, Ninna Nanna\, La
  Serenata\; Songs of Departure: Chanson l’Adieu\, L’Ultima Canzone and
  Let’s Waltz Away: First Waltz\n\nOscar Dom Victor Castellino aka Operaw
 ala\, alumnus of the prestigious Royal College of Music sang for Queen Eli
 zabeth’s Diamond Jubilee Pageant on the river Thames. He will be playing
  the central role of James Meredith in the opera Kommilitonen! with Welsh 
 National Opera young artists in July 2016. He played the lead role of Aene
 as in Giving Voice Society’s Dido and Aeneas tour of India.\n\nNadine Cr
 asto began learning the piano at the age of 9 under the tutelage of Myrna 
 Fernandes. She completed the LTCL Examination in 2009 at the age of 17 and
  received two awards for the ATCL Examination the previous year\, having a
 chieved the highest marks in Mumbai. She recently graduated with a Master 
 of Arts Degree in Piano Performance at the Royal Academy of Music\, London
 .
ATTACH;FMTTYPE=image/jpeg:https://poonamusic.com/pms_wp/wp-content/uploads
 /2016/02/Nadine-Crasto.jpg
CATEGORIES:Vocal Recitals
LOCATION:Mazda Hall\, Sardar Dastur Hoshang Boys High School\, Pune\, India
GEO:18.5198845;73.87824479999995
X-APPLE-STRUCTURED-LOCATION;VALUE=URI;X-ADDRESS=Sardar Dastur Hoshang Boys 
 High School\, Pune\, India;X-APPLE-RADIUS=100;X-TITLE=Mazda Hall:geo:18.51
 98845,73.87824479999995
END:VEVENT
END:VCALENDAR