BEGIN:VCALENDAR
VERSION:2.0
PRODID:-//wp-events-plugin.com//7.1.7//EN
BEGIN:VEVENT
UID:1426@poonamusic.com
DTSTART:20170723T130000Z
DTEND:20170723T130000Z
DTSTAMP:20170719T163107Z
URL:https://poonamusic.com/events/neville-bharucha-piano/
SUMMARY:Neville Bharucha\, piano
DESCRIPTION:In a programme of Ravel: Jeux d’eau\; Schubert: Wanderer Fant
 asy\; Rachmaninoff: Preludes Op. 23 Nos. 2\, 3\, 5\, 6\, 7\;&nbsp\;Schuber
 t: Impromptu Op. 90 No. 4 and Liszt: Etude d'execution transcendante No. 1
 1\n\nPiano prodigy Neville Bharucha\, now 24\, started piano lessons with 
 his father when he was four and began performing across India at the age o
 f ten. He continued piano lessons with Natallia Kapylova in Bangalore and 
 at the Royal Academy of Music in London.\n\nIn December 2010\, Neville was
  invited by the North American Zoroastrian Congress to perform the Grieg P
 iano Concerto with the World Zoroastrian Symphony Orchestra and members of
  the Houston Symphony Orchestra under distinguished conductor Farobag Coop
 er. In July 2011\, Neville took the first prize at the Con Brio All India 
 Piano Competition held in Mumbai.\n\nHe has a Masters in Music Performance
  from the University of Southampton\, and continued his studies in London 
 with the renowned pianist Leslie Howard. He is the winner of the 24th Enni
 o Porrino International Piano Competition\, and in February 2016\, he was 
 awarded the Kerr Memorial Prize for Outstanding Musicianship at the Royal 
 Overseas League Competition\, London.\n\nCurrently\, Neville is completing
  his advanced studies at the Hochschule in Leipzig.\n\n
ATTACH;FMTTYPE=image/jpeg:https://poonamusic.com/pms_wp/wp-content/uploads
 /2017/07/Neville-1crop.jpg
CATEGORIES:Piano recitals
LOCATION:Mazda Hall\, Sardar Dastur Hoshang Boys High School\, Pune\, India
GEO:18.5198845;73.87824479999995
X-APPLE-STRUCTURED-LOCATION;VALUE=URI;X-ADDRESS=Sardar Dastur Hoshang Boys 
 High School\, Pune\, India;X-APPLE-RADIUS=100;X-TITLE=Mazda Hall:geo:18.51
 98845,73.87824479999995
END:VEVENT
END:VCALENDAR